BEGIN:VCALENDAR
VERSION:2.0
PRODID:-//GeekAgenda - ECPv6.15.18//NONSGML v1.0//EN
CALSCALE:GREGORIAN
METHOD:PUBLISH
X-ORIGINAL-URL:https://geekagenda.nl
X-WR-CALDESC:Evenementen voor GeekAgenda
REFRESH-INTERVAL;VALUE=DURATION:PT1H
X-Robots-Tag:noindex
X-PUBLISHED-TTL:PT1H
BEGIN:VTIMEZONE
TZID:Europe/Amsterdam
BEGIN:DAYLIGHT
TZOFFSETFROM:+0100
TZOFFSETTO:+0200
TZNAME:CEST
DTSTART:20250330T010000
END:DAYLIGHT
BEGIN:STANDARD
TZOFFSETFROM:+0200
TZOFFSETTO:+0100
TZNAME:CET
DTSTART:20251026T010000
END:STANDARD
BEGIN:DAYLIGHT
TZOFFSETFROM:+0100
TZOFFSETTO:+0200
TZNAME:CEST
DTSTART:20260329T010000
END:DAYLIGHT
BEGIN:STANDARD
TZOFFSETFROM:+0200
TZOFFSETTO:+0100
TZNAME:CET
DTSTART:20261025T010000
END:STANDARD
BEGIN:DAYLIGHT
TZOFFSETFROM:+0100
TZOFFSETTO:+0200
TZNAME:CEST
DTSTART:20270328T010000
END:DAYLIGHT
BEGIN:STANDARD
TZOFFSETFROM:+0200
TZOFFSETTO:+0100
TZNAME:CET
DTSTART:20271031T010000
END:STANDARD
END:VTIMEZONE
BEGIN:VEVENT
DTSTART;TZID=Europe/Amsterdam:20260130T200000
DTEND;TZID=Europe/Amsterdam:20260131T030000
DTSTAMP:20260423T020851
CREATED:20260112T211139Z
LAST-MODIFIED:20260112T215538Z
UID:10000065-1769803200-1769828400@geekagenda.nl
SUMMARY:Cartoonmania: Portal to Oniria 2026
DESCRIPTION:Wat is Cartoonmania?\nCartoonmania is een creatieve clubnacht waar muziek\, anime\, fantasy en performance samenkomen. Voor de aankomende editie\, Portal to Oniria\, transformeert de locatie in een surrealistische droomwereld waarin realiteit buigt voor verbeelding. \nMuziek\nDe muziek is een mix van Anime en cartoon remixes/edits/mashups\, Urban\, Afro/Amapiano\, future beats en house. Cartoonmania wordt gepositioneerd als een terugkerend cultureel event voor de community in Schiedam en omgeving \nFlyer\n \n\nBeleef de sfeer op Cartoonmania: Portal to Oniria\nKrijg alvast een indruk van het event met de officiële aftermovie van de vorige editie! \n\n   \n\n\n\n\n\n\n\n\n\n\nView this post on Instagram\n\n\n\n\n\n\n\n\n\n\n\n\n\n\n\n\n\n\n\n\n\n\n\n\n \nVoeg toe aan favorieten
URL:https://geekagenda.nl/event/cartoonmania/
LOCATION:Restobar Oniria\, Hoogstraat 171\, Schiedam\, 3111HG\, Netherlands
CATEGORIES:Popcultuur & Comic Cons
ATTACH;FMTTYPE=image/png:https://geekagenda.nl/wp-content/uploads/2026/01/2026_20251222_144504_0000.png
END:VEVENT
END:VCALENDAR