BEGIN:VCALENDAR
VERSION:2.0
PRODID:-//GeekAgenda - ECPv6.15.18//NONSGML v1.0//EN
CALSCALE:GREGORIAN
METHOD:PUBLISH
X-WR-CALNAME:GeekAgenda
X-ORIGINAL-URL:https://geekagenda.nl
X-WR-CALDESC:Evenementen voor GeekAgenda
REFRESH-INTERVAL;VALUE=DURATION:PT1H
X-Robots-Tag:noindex
X-PUBLISHED-TTL:PT1H
BEGIN:VTIMEZONE
TZID:Europe/Amsterdam
BEGIN:DAYLIGHT
TZOFFSETFROM:+0100
TZOFFSETTO:+0200
TZNAME:CEST
DTSTART:20250330T010000
END:DAYLIGHT
BEGIN:STANDARD
TZOFFSETFROM:+0200
TZOFFSETTO:+0100
TZNAME:CET
DTSTART:20251026T010000
END:STANDARD
BEGIN:DAYLIGHT
TZOFFSETFROM:+0100
TZOFFSETTO:+0200
TZNAME:CEST
DTSTART:20260329T010000
END:DAYLIGHT
BEGIN:STANDARD
TZOFFSETFROM:+0200
TZOFFSETTO:+0100
TZNAME:CET
DTSTART:20261025T010000
END:STANDARD
BEGIN:DAYLIGHT
TZOFFSETFROM:+0100
TZOFFSETTO:+0200
TZNAME:CEST
DTSTART:20270328T010000
END:DAYLIGHT
BEGIN:STANDARD
TZOFFSETFROM:+0200
TZOFFSETTO:+0100
TZNAME:CET
DTSTART:20271031T010000
END:STANDARD
END:VTIMEZONE
BEGIN:VEVENT
DTSTART;VALUE=DATE:20260502
DTEND;VALUE=DATE:20260504
DTSTAMP:20260422T201213
CREATED:20251012T210639Z
LAST-MODIFIED:20251029T181835Z
UID:10000032-1777680000-1777852799@geekagenda.nl
SUMMARY:Middeleeuws Festijn Cannenburch
DESCRIPTION:Op 2 & 3 mei 2026 vindt het Middeleeuws Festijn Cannenburch plaats! Dit wordt de 10de editie! Het evenement is leuk voor jong  ende oud\, voor groot ende klein. Geniet van interactieve demonstraties van diverse middeleeuwse show. Denk hierbij aan riddergevechten\, boogschutters in actie\, verhalenvertellers\, muzikanten\, en nog veel meer. Snuffel daarnaast op ons historische (met een fantasy knipoog) markt\, voor elck wat wils! \nBeleef de sfeer op Middeleeuws Festijn Cannenburch\nKrijg alvast een indruk van het event met de aftermovie van een vorige editie! \n\nVoeg toe aan favorieten
URL:https://geekagenda.nl/event/middeleeuws-festijn-cannenburch/
LOCATION:Kasteel Cannenburch\, Maarten van Rossumplein 4\, Vaassen\, Gelderland\, 8171EB\, Netherlands
CATEGORIES:Fantasy & Middeleeuwen
END:VEVENT
BEGIN:VEVENT
DTSTART;VALUE=DATE:20260508
DTEND;VALUE=DATE:20260511
DTSTAMP:20260422T201213
CREATED:20251006T231143Z
LAST-MODIFIED:20251029T181834Z
UID:10000002-1778198400-1778457599@geekagenda.nl
SUMMARY:Elfia Vorden 2026
DESCRIPTION:Vorden\, Elfia’s vassal kingdom on Planet Earth \n\nThis isn’t just a festival! It’s a crossing of worlds. A place where shy humans\, endangered elves\, damaged goblins\, and wingless dragons all walk side by side. Where no journey is too small\, whether you arrive by car\, train\, horse\, or wheelchair; you’re part of the same spell. \nElfia is growing\, reshaping\, daring to build new realms and craft new legends. Here\, you’ll discover stories that blur boundaries\, and dreams that feel too real to forget. \nBecause in Elfia\, you never dream alone. Together we don’t just move mountains\, we move magic. \nWelcome home. Welcome to Elfia Vorden. \nVoeg toe aan favorieten
URL:https://geekagenda.nl/event/elfia-vorden-2026/
LOCATION:Kasteel Vorden\, De Horsterkamp 8\, Vorden\, Gelderland\, 7251AZ\, Netherlands
CATEGORIES:Fantasy & Middeleeuwen
ATTACH;FMTTYPE=image/png:https://geekagenda.nl/wp-content/uploads/2025/10/elfia.png
END:VEVENT
BEGIN:VEVENT
DTSTART;TZID=Europe/Amsterdam:20260515T080000
DTEND;TZID=Europe/Amsterdam:20260517T170000
DTSTAMP:20260422T201213
CREATED:20251117T143849Z
LAST-MODIFIED:20251117T143849Z
UID:10000051-1778832000-1779037200@geekagenda.nl
SUMMARY:MysteriA 2026
DESCRIPTION:Je voelt het al als je de poorten van MysteriA binnenstapt. De grens van de echte wereld vervaagt. Je voelt een zindering\, je hoort muziek\, Mysteria – waar magie ontwaakt en legendes herleven. Je bent thuis \nOoit een sprookjesboek opengeslagen? Of ken je mischien de verhalen van Jules Verne? Je hebt toch op zijn minst een piratenfilm gezien? Wel\, ze zijn er allemaal\, in levende lijve\, in het unieke decor van Domein Elzenhof\, een vaak vergeten parel in Aarschot. Een echt familie-event waarbij je je mag verwachten aan victoriaanse taferelen\, steampunk\, anime-cosplay\, piraten\, vikings\, fantasyfiguren in de breedste zin van het woord. Alle magische fantasiekarakters\,cosplayers en wezens zijn welkom bij MysteriA. \n\nVoeg toe aan favorieten
URL:https://geekagenda.nl/event/mysteria-2026/
LOCATION:Domein Elzenhof\, Elzenhof\, Nieuwland 3\, Aarschot\, 3200\, Belgium
CATEGORIES:Fantasy & Middeleeuwen
END:VEVENT
BEGIN:VEVENT
DTSTART;VALUE=DATE:20260522
DTEND;VALUE=DATE:20260525
DTSTAMP:20260422T201213
CREATED:20260114T164620Z
LAST-MODIFIED:20260114T164637Z
UID:10000077-1779408000-1779667199@geekagenda.nl
SUMMARY:Fantasy Village 2026
DESCRIPTION:Welkom bij Fantasy Village\, waar de grenzen tussen realiteit en fantasie vervagen. Bewoners gekleed in de meest prachtige kostuums verwelkomen je met een glimlach. Ook vind je er vele ambachtslieden die hun magische creaties tonen\, van juwelen tot drakenbeelden en nog veel meer! \nOp het dorpsplein komen avonturen tot leven\, met spannende optredens en dramatische uitvoeringen die je versteld doen laten staan. Je kunt deelnemen aan workshops waar je de kunst van zwaardvechten\, boogschieten en balfolk kunt leren. \nDit is de plek waar dromen uitkomen\, waar de grenzen van verbeelding worden uitgedaagd en waar nog heel veel meer te ontdekken is.\nKom langs en beleef zelf de magie van Fantasy Village\, waar avonturen wachten en er een nieuwe wereld voor je opengaat! \nVoeg toe aan favorieten
URL:https://geekagenda.nl/event/fantasy-village/
LOCATION:Biesbosch Dordrecht\, Baanhoekweg 75\, Dordrecht\, 3312 LP\, Netherlands
CATEGORIES:Fantasy & Middeleeuwen
ATTACH;FMTTYPE=image/png:https://geekagenda.nl/wp-content/uploads/2026/01/fantasy-village-logo-1536x331-1.png
END:VEVENT
BEGIN:VEVENT
DTSTART;VALUE=DATE:20260523
DTEND;VALUE=DATE:20260526
DTSTAMP:20260422T201213
CREATED:20260114T165258Z
LAST-MODIFIED:20260114T165258Z
UID:10000078-1779494400-1779753599@geekagenda.nl
SUMMARY:Vikingfest 2026
DESCRIPTION:Pinksteren in het preHistorisch Dorp in Eindhoven kan maar één ding betekenen: Vikingen! Drie dagen lang neemt dit bijzondere volk ons openluchtmuseum over. Klaar om een sprong terug in de tijd te maken? Kom dan op 23\, 24 of 25 mei 2026 bij Vikingfest langs en beleef de vroege middeleeuwen van dichtbij! \nTerug naar de Vikingtijd\nVikingfest is niet voor niets al jaren op rij het grootste evenement in het preHistorisch Dorp: het is dé manier om te ontdekken hoe de echte Vikingen leefden. Van het inrichten van hun leefomgeving tot het beoefenen van ambachten en het aanbieden van handelswaar op de Vikingmarkt. Hier ontdek je hoe het dagelijks leven er vroeger uitzag. Uiteraard mag je zelf op verschillende plekken ook een handje helpen! \nEten & drinken\nTijdens Vikingfest kun je in en rondom de middeleeuwse herberg terecht voor een hapje en drankje. Daarnaast is het mogelijk om je eigen eten mee te nemen in het museum. Kies bijvoorbeeld een van de vele boomstammetjes of andere zitplekken uit voor jouw lunch. Zittend op de steiger\, op de grasheuvel bij de kraampjes of juist in het bos: er is genoeg keus. \nVoeg toe aan favorieten
URL:https://geekagenda.nl/event/vikingfest/
LOCATION:preHistorisch Dorp\, Boutenslaan 161B\, Eindhoven\, 5644 TV\, Netherlands
CATEGORIES:Fantasy & Middeleeuwen
ATTACH;FMTTYPE=image/png:https://geekagenda.nl/wp-content/uploads/2026/01/logorand.png
END:VEVENT
BEGIN:VEVENT
DTSTART;VALUE=DATE:20260524
DTEND;VALUE=DATE:20260525
DTSTAMP:20260422T201213
CREATED:20251117T112759Z
LAST-MODIFIED:20251117T112759Z
UID:10000049-1779580800-1779667199@geekagenda.nl
SUMMARY:Fantasy Court 2026
DESCRIPTION:Betreed het hof\nWelkom op Fantasy Court\, een gratis festival dat zich richt op de unieke cultuur rondom Fantasy\, met een focus op Larp (Live Action Role Playing). Het festival vindt jaarlijks plaats op de campus van de Technische Universiteit Eindhoven. Op de dag zelf zijn er veel kraampjes\, verenigingen\, workshops en activiteiten die onder het wonderlijke rijk van Fantasy vallen. Denk aan Larp-verenigingen\, verrassende bordspellen\, bijzonder eten\, een Larp-zwaardvechttoernooi\, larp-boogschieten en verschillende kraampjes die fantasy-waren aanbieden. Wij bieden van alles aan dat in de Fantasywereld thuis hoort of ervoor zorgt dat u zich er onderdeel van zal voelen. \nVoeg toe aan favorieten
URL:https://geekagenda.nl/event/fantasy-court-2026/
LOCATION:Koe-veld Campus TU Eindhoven\, Koeveld\, Eindhoven\, Noord-Brabant\, 5612AV\, Netherlands
CATEGORIES:Fantasy & Middeleeuwen
ATTACH;FMTTYPE=image/png:https://geekagenda.nl/wp-content/uploads/2025/11/Fc_letterlogo_myrna-v2-scaled.png
END:VEVENT
BEGIN:VEVENT
DTSTART;VALUE=DATE:20260528
DTEND;VALUE=DATE:20260601
DTSTAMP:20260422T201213
CREATED:20251117T113223Z
LAST-MODIFIED:20251117T113223Z
UID:10000050-1779926400-1780271999@geekagenda.nl
SUMMARY:Tolkien dagen 2026
DESCRIPTION:Jaarlijks vindt er in het weekend na Pinksteren het evenement Tolkien Tage in Geldern-Pont plaats. Alle Tolkien-fans en fantasyliefhebbers zijn uitgenodigd voor een reis naar Middenaarde. Tolkien Tage is het grootste evenement van Europa met als thema de werken van de Britse blockbuster. \nTolkien Tage biedt een afwisselend programma voor het hele gezin. De inwendige mens komt aan zijn trekken dankzij de aangeboden internationale specialiteiten uit Middenaarde. Weer of geen weer; het evenement vindt hoe dan ook plaats. Verheug je op toespraken\, workshops\, muziek\, markt met veel handelaren\, cosplay\, LARP\, re-enactment\, tentoonstellingen\, sneak peaks voor spellen\, lezingen en alles wat ook maar enigszins met Tolkien en zijn werken te maken heeft. \nVoeg toe aan favorieten
URL:https://geekagenda.nl/event/tolkien-dagen-2026/
LOCATION:Eichental Pont\, Bruchweg 58 – 64\, Geldern\, 47608\, Germany
CATEGORIES:Fantasy & Middeleeuwen
ATTACH;FMTTYPE=image/png:https://geekagenda.nl/wp-content/uploads/2025/11/elegant-logo.png
END:VEVENT
BEGIN:VEVENT
DTSTART;VALUE=DATE:20260530
DTEND;VALUE=DATE:20260601
DTSTAMP:20260422T201213
CREATED:20251007T214230Z
LAST-MODIFIED:20251029T181830Z
UID:10000005-1780099200-1780271999@geekagenda.nl
SUMMARY:Runeheim
DESCRIPTION:Runeheim is meer dan alleen een festival. \nHet is een plek waar muziek\, markten\, natuur en verhalen samenkomen in de prachtige omgeving van Bloemenpark Appeltern. Een beleving waar je door tuinen kunt dwalen\, bijzondere optredens ontdekt en nieuwe werelden binnenstapt. \nBenieuwd naar Runeheim?\n\nVoeg toe aan favorieten
URL:https://geekagenda.nl/event/runeheim/
LOCATION:Bloemenpark Appeltern\, Walstraat 2A\, Appeltern\, Gelderland\, 6629AD\, Netherlands
CATEGORIES:Fantasy & Middeleeuwen
ATTACH;FMTTYPE=image/jpeg:https://geekagenda.nl/wp-content/uploads/2025/10/Runeheim-Logo-banner-18-05-2025-884x1024-1.jpg
END:VEVENT
BEGIN:VEVENT
DTSTART;VALUE=DATE:20260606
DTEND;VALUE=DATE:20260607
DTSTAMP:20260422T201213
CREATED:20251007T214713Z
LAST-MODIFIED:20251029T181827Z
UID:10000006-1780704000-1780790399@geekagenda.nl
SUMMARY:HXtival
DESCRIPTION:We verwelkomen we je opnieuw voor een magisch festival! Het wordt een dag vol betovering\, inspiratie en onverwachte ontmoetingen. Laat je inspireren door geweldige artiesten\, ontmoet gelijkgestemde zielen en laat je verleiden door nieuwe ervaringen. \nBeleef de sfeer op HXtival\nKrijg alvast een indruk van het event met de aftermovie van een vorige editie! \n\nVoeg toe aan favorieten
URL:https://geekagenda.nl/event/hxtival/
LOCATION:Verbindingsboerderij De Koolberg\, Koolberg 3\, Westerbeek\, Noord-Brabant\, 5843AE\, Netherlands
CATEGORIES:Fantasy & Middeleeuwen
END:VEVENT
BEGIN:VEVENT
DTSTART;VALUE=DATE:20260627
DTEND;VALUE=DATE:20260629
DTSTAMP:20260422T201213
CREATED:20251013T141052Z
LAST-MODIFIED:20251029T181825Z
UID:10000035-1782518400-1782691199@geekagenda.nl
SUMMARY:Fable & Fantasy 2026
DESCRIPTION:Geniet van muziek\, hapje en drankje en alles om je heen. Neem een kijkje op de grote fair\, doe mee aan een workshop of andere activiteiten. \nWat een fantasy festival eigenlijk is? Tijdens Fable & Fantasy waan je je in een andere wereld\, de wereld van de fantasie. De plaats waar je kan genieten\, jezelf kan zijn en je je kan laten verwonderen. De één komt in een prachtig kostuum\, de ander komt in zijn gewone kleding. Het mag allemaal. Het Rensenpark wordt omgetoverd tot een fantasie wereld waar je sprookjesfiguren tegen kunt komen\, je terug naar de middeleeuwen kunt gaan\, of een kijkje kunt nemen in de wereld van de steampunk. Er is voor ieder wat wils en iedere fantasy/cosplay stijl is welkom! Deze twee dagen zijn er verschillende fantasy kraampjes te vinden op onze fair. Het Rensenpark is al een sfeervolle locatie op zich\, maar zit deze dagen ook nog eens vol avonturen.\nWil je op de hoogte blijven van alle nieuwtjes van onze komende editie? Volg Fable & Fantasy dan via facebook of instagram\, of houd deze site in de gaten voor het laatste nieuws! \n  \nBeleef de sfeer op Fable & Fantasy\nKrijg alvast een indruk van het event met de aftermovie van een vorige editie! \n\nVoeg toe aan favorieten
URL:https://geekagenda.nl/event/fable-fantasy-2026/
LOCATION:Het Rensenpark\, Hoofdstraat 18\, Emmen\, 7811EP
CATEGORIES:Fantasy & Middeleeuwen
ATTACH;FMTTYPE=image/webp:https://geekagenda.nl/wp-content/uploads/2025/10/banner-fable-fantasy-1920-min.webp
END:VEVENT
BEGIN:VEVENT
DTSTART;VALUE=DATE:20260703
DTEND;VALUE=DATE:20260706
DTSTAMP:20260422T201213
CREATED:20251012T210241Z
LAST-MODIFIED:20251029T181822Z
UID:10000031-1783036800-1783295999@geekagenda.nl
SUMMARY:Imaginarium Festival
DESCRIPTION:Er was eens een bijzonder festival op een prachtige plek in Friesland. Elk jaar komen fans van muziek\, fantasy\, comics\, superhelden en alles wat met de betoverende dingen in het leven te maken heeft\, bijeen in Tytsjerk tijdens Imaginarium Festival. \nNa de meest succesvolle editie ooit in 2024\, kunnen we niet wachten om op 4\, 5 en 6 juli onze poorten weer te openen en jou en je vrienden\, familie\, kinderen en kleinkinderen weer een onvergetelijke ervaring mee te geven waar jullie nog jaren over napraten. \nDe ticketverkoop is begonnen\, standhouders en vrijwilligers kunnen zich inschrijven en we zullen binnenkort de eerste bands aankondigen! \n  \nBeleef de sfeer op Imaginarium Festival\nKrijg alvast een indruk van het event met de aftermovie van een vorige editie! \n\nVoeg toe aan favorieten
URL:https://geekagenda.nl/event/imaginarium-festival/
LOCATION:Park Vijversburg\, Swarteweisein 2\, Tietjerk\, 9255JB\, Netherlands
CATEGORIES:Fantasy & Middeleeuwen
ATTACH;FMTTYPE=image/png:https://geekagenda.nl/wp-content/uploads/2025/10/Imaginarium-header-logo.png
END:VEVENT
BEGIN:VEVENT
DTSTART;VALUE=DATE:20260704
DTEND;VALUE=DATE:20260706
DTSTAMP:20260422T201213
CREATED:20260118T123234Z
LAST-MODIFIED:20260118T123234Z
UID:10000081-1783123200-1783295999@geekagenda.nl
SUMMARY:Midzomer Fair Archeon
DESCRIPTION:Archeon Museumpark presenteert de viering van de Zonnewende. \nOp dit moment bereikt de zon haar noordelijkste positie aan de hemel ten opzichte van de evenaar. Ze staat dan loodrecht boven de Kreeftskeerkring. Voor ons op het noordelijk halfrond betekent dit de langste dag van het jaar. \nDit fenomeen wordt veroorzaakt door de 23\,5° schuine stand van de aardas ten opzichte van de baan rond de zon. Sinds duizenden jaren vormt dit moment een natuurlijk ritueel ijkpunt in landbouw\, religie en tijdrekening. \nDit geweldige natuurlijke fenomeen moet natuurlijk gevierd worden – met zang\, dans en feestelijkheden! \nTijdens Midzomer vieren wij het leven\, het licht en de vruchtbaarheid – een eeuwenoude ode aan de natuur. \nVoeg toe aan favorieten
URL:https://geekagenda.nl/event/midzomer-fair-archeon/
LOCATION:Museumpark Archeon\, Archeonlaan 1\, Alphen aan den Rijn\, 2408ZB\, Netherlands
CATEGORIES:Fantasy & Middeleeuwen
ATTACH;FMTTYPE=image/svg+xml:https://geekagenda.nl/wp-content/uploads/2025/10/archeon-logo-zwart.svg
END:VEVENT
BEGIN:VEVENT
DTSTART;VALUE=DATE:20260730
DTEND;VALUE=DATE:20260803
DTSTAMP:20260422T201213
CREATED:20251007T191249Z
LAST-MODIFIED:20251029T181817Z
UID:10000004-1785369600-1785715199@geekagenda.nl
SUMMARY:Castlefest 2026
DESCRIPTION:Waan je in een compleet andere wereld op Castlefest\, het Fantasy festival van Nederland. Een feest voor jong en oud\, waarbij je\, zodra je de poorten doorgaat\, een andere wereld instapt. Castlefest is een totaalbeleving met veel muziek\, fantasy schrijvers\, catering in stijl\, middeleeuwse ambachten en een grote markt met alles waar de Fantasy-liefhebber naar op zoek is. \nOp de de verschillende festivalpodia treden een groot aantal bands op\, van Pagan Folk tot Wereld muziek\, van Middeleeuwse Rock tot Indie. Kortom\, voor elke muziekliefhebber wat wils! \nCastlefest kenmerkt zich door de bijzondere sfeer. Dit maakt dat de vaste bezoekers zich een jaar van tevoren al verheugen op de volgende editie. Het creëert een gevoel waarbij je je enkele dagen in een totaal andere wereld lijkt te begeven en waardoor je in de weken erna in een roes verkeert en heimwee hebt naar het festival. \nHet Castlefest-gevoel is niet goed te omschrijven\, maar iets dat je zelf moet ervaren. Jaarlijks hoogtepunt van het festival is het Wicker Ritueel. Met bezoekers\, standhouders\, cateraars en organisatie leef je toe naar het moment dat de Wickerman wordt aangestoken. De energie die op dat moment vrijkomt is een bijzondere ervaring die je niet mag missen. \n\nBeleef de sfeer op Castlefest\nKrijg alvast een indruk van het event met de aftermovie van een vorige editie! \n\n\n\n\nVoeg toe aan favorieten
URL:https://geekagenda.nl/event/castlefest-2026/
LOCATION:Kasteel Keukenhof\, Keukenhof 1\, Lisse\, Zuid-Holland\, 2161AN\, Netherlands
CATEGORIES:Fantasy & Middeleeuwen
ATTACH;FMTTYPE=image/jpeg:https://geekagenda.nl/wp-content/uploads/2025/10/castlefest.jpg
ORGANIZER;CN="Castlefest":MAILTO:info@castlefest.com
END:VEVENT
BEGIN:VEVENT
DTSTART;VALUE=DATE:20260816
DTEND;VALUE=DATE:20260817
DTSTAMP:20260422T201213
CREATED:20251013T203156Z
LAST-MODIFIED:20251029T181812Z
UID:10000039-1786838400-1786924799@geekagenda.nl
SUMMARY:Middeleeuws Winshoten 2026
DESCRIPTION:Waan je terug in de middeleeuwen en droom weg in een wereld vol fantasie!Op vrijdag 14\, zaterdag 15 en zondag 16 augustus 2026 verandert het sfeervolle Stadspark in Winschoten in een magisch decor voor het grootste Middeleeuws & Fantasy Festival van Noord-Nederland: Middeleeuws Winschoten.Drie dagen lang beleef je een unieke mix van middeleeuwse sfeer\, fantastische werelden en spectaculaire optredens. Wandel langs de uitgebreide middeleeuwse & fantasy markt vol handgemaakte producten\, kostuums\, sieraden en ambachtelijke lekkernijen. Ontdek de indrukwekkende kampementen en ervaar hoe ridders\, ambachtslieden en re-enactors vroeger leefden en werkten.Geniet van meer dan 40 uur live muziek\, theatervoorstellingen en straatacts op diverse podia en pleinen. Doe mee aan workshops zoals zwaardvechten\, boogschieten of creatieve ambachten\, en laat je verrassen door indrukwekkende demonstraties.In de bijzondere Fantasy Area stap je een alternatieve wereld binnen vol magische creaties\, fantasierijke kostuums en mysterieuze wezens. Hier komen de mooiste verhalen en werelden tot leven.Of je nu komt voor de muziek\, de markt\, de shows of gewoon om de unieke sfeer te proeven: Middeleeuws Winschoten is hét festival voor liefhebbers van middeleeuwen en fantasy. Trek je mooiste kostuum aan en beleef het zelf – een magisch weekend vol avontuur wacht op jou!\n\n\nBeleef de sfeer op Middeleeuws Winschoten\nKrijg alvast een indruk van het event met de aftermovie van een vorige editie! \n\n\n\n\nVoeg toe aan favorieten
URL:https://geekagenda.nl/event/middeleeuws-winshoten-2026/
LOCATION:Stadspark Winschoten\, Bovenburen 104\, Winschoten\, 9675HH\, Netherlands
CATEGORIES:Fantasy & Middeleeuwen
ATTACH;FMTTYPE=image/png:https://geekagenda.nl/wp-content/uploads/2025/10/Middeleeuws-Winschoten-2026.png
END:VEVENT
BEGIN:VEVENT
DTSTART;VALUE=DATE:20260919
DTEND;VALUE=DATE:20260921
DTSTAMP:20260422T201213
CREATED:20251015T215313Z
LAST-MODIFIED:20251029T181643Z
UID:10000041-1789776000-1789948799@geekagenda.nl
SUMMARY:Elfia Arcen 2026
DESCRIPTION:At the heart of any event is a big idea. Simple and memorable. For Elfia\, this big idea is: \n“You’ll never dream alone’. \nTogether we dream. Together we create. Beyond the borders of our imagination. Together we express those dreams and love to share them. \n\nWe look forward to welcoming you to this fairy-tale kingdom! \nBeleef de sfeer op Elfia Arcen\nKrijg alvast een indruk van het event met de aftermovie van een vorige editie! \n\nVoeg toe aan favorieten
URL:https://geekagenda.nl/event/elfia-arcen-2026/
LOCATION:Kasteeltuinen Arcen\, Lingsforterweg 26\, Arcen\, Limburg\, 5944BE\, Netherlands
CATEGORIES:Fantasy & Middeleeuwen
ATTACH;FMTTYPE=image/png:https://geekagenda.nl/wp-content/uploads/2025/10/elfia.png
END:VEVENT
END:VCALENDAR