BEGIN:VCALENDAR
VERSION:2.0
PRODID:-//GeekAgenda - ECPv6.15.18//NONSGML v1.0//EN
CALSCALE:GREGORIAN
METHOD:PUBLISH
X-WR-CALNAME:GeekAgenda
X-ORIGINAL-URL:https://geekagenda.nl
X-WR-CALDESC:Evenementen voor GeekAgenda
REFRESH-INTERVAL;VALUE=DURATION:PT1H
X-Robots-Tag:noindex
X-PUBLISHED-TTL:PT1H
BEGIN:VTIMEZONE
TZID:Europe/Amsterdam
BEGIN:DAYLIGHT
TZOFFSETFROM:+0100
TZOFFSETTO:+0200
TZNAME:CEST
DTSTART:20250330T010000
END:DAYLIGHT
BEGIN:STANDARD
TZOFFSETFROM:+0200
TZOFFSETTO:+0100
TZNAME:CET
DTSTART:20251026T010000
END:STANDARD
BEGIN:DAYLIGHT
TZOFFSETFROM:+0100
TZOFFSETTO:+0200
TZNAME:CEST
DTSTART:20260329T010000
END:DAYLIGHT
BEGIN:STANDARD
TZOFFSETFROM:+0200
TZOFFSETTO:+0100
TZNAME:CET
DTSTART:20261025T010000
END:STANDARD
BEGIN:DAYLIGHT
TZOFFSETFROM:+0100
TZOFFSETTO:+0200
TZNAME:CEST
DTSTART:20270328T010000
END:DAYLIGHT
BEGIN:STANDARD
TZOFFSETFROM:+0200
TZOFFSETTO:+0100
TZNAME:CET
DTSTART:20271031T010000
END:STANDARD
END:VTIMEZONE
BEGIN:VEVENT
DTSTART;VALUE=DATE:20260808
DTEND;VALUE=DATE:20260810
DTSTAMP:20260423T003700
CREATED:20260322T124258Z
LAST-MODIFIED:20260322T124258Z
UID:10000094-1786147200-1786319999@geekagenda.nl
SUMMARY:Elftopia 2026
DESCRIPTION:We nemen je mee op een geweldig avontuur waarin de de wereld van Fantasy het epicenter is. Een utopie waar elven\, trollen\, druiden\, orcs\, tijdreizigers\, vikings\, gnomes en tovenaars elkaar kunnen treffen. \nEen festival van fantasy en dromen. Het kasteel van Ooidonk is een van de mooiste middeleeuwse kastelen in de Benelux gelegen nabij de prachtige stad Gent\, België en is de locatie van Elftopia. \nEen evenement waar elke cosplayer welkom is\, waar iedereen zichzelf mag zijn en kan ontspannen. Sprookjes\, storytellers\, vuurspuwers\, valkeniers\, fantasy auteurs\, workshops\, concerten en speciale gasten… Betreed een dromenwereld waar alles mogelijk is en beleef je fantasie! \nELFTOPIA: LIVE YOUR DREAM! \nVoeg toe aan favorieten
URL:https://geekagenda.nl/event/elftopia/
LOCATION:Kasteel Ooidonk\, Ooidonkdreef 9\,\, Deinze\, 9800\, Belgium
CATEGORIES:Fantasy & Middeleeuwen
ATTACH;FMTTYPE=image/png:https://geekagenda.nl/wp-content/uploads/2026/03/unnamed-2-uai-720x264-1.png
END:VEVENT
BEGIN:VEVENT
DTSTART;VALUE=DATE:20260816
DTEND;VALUE=DATE:20260817
DTSTAMP:20260423T003700
CREATED:20251013T203156Z
LAST-MODIFIED:20251029T181812Z
UID:10000039-1786838400-1786924799@geekagenda.nl
SUMMARY:Middeleeuws Winshoten 2026
DESCRIPTION:Waan je terug in de middeleeuwen en droom weg in een wereld vol fantasie!Op vrijdag 14\, zaterdag 15 en zondag 16 augustus 2026 verandert het sfeervolle Stadspark in Winschoten in een magisch decor voor het grootste Middeleeuws & Fantasy Festival van Noord-Nederland: Middeleeuws Winschoten.Drie dagen lang beleef je een unieke mix van middeleeuwse sfeer\, fantastische werelden en spectaculaire optredens. Wandel langs de uitgebreide middeleeuwse & fantasy markt vol handgemaakte producten\, kostuums\, sieraden en ambachtelijke lekkernijen. Ontdek de indrukwekkende kampementen en ervaar hoe ridders\, ambachtslieden en re-enactors vroeger leefden en werkten.Geniet van meer dan 40 uur live muziek\, theatervoorstellingen en straatacts op diverse podia en pleinen. Doe mee aan workshops zoals zwaardvechten\, boogschieten of creatieve ambachten\, en laat je verrassen door indrukwekkende demonstraties.In de bijzondere Fantasy Area stap je een alternatieve wereld binnen vol magische creaties\, fantasierijke kostuums en mysterieuze wezens. Hier komen de mooiste verhalen en werelden tot leven.Of je nu komt voor de muziek\, de markt\, de shows of gewoon om de unieke sfeer te proeven: Middeleeuws Winschoten is hét festival voor liefhebbers van middeleeuwen en fantasy. Trek je mooiste kostuum aan en beleef het zelf – een magisch weekend vol avontuur wacht op jou!\n\n\nBeleef de sfeer op Middeleeuws Winschoten\nKrijg alvast een indruk van het event met de aftermovie van een vorige editie! \n\n\n\n\nVoeg toe aan favorieten
URL:https://geekagenda.nl/event/middeleeuws-winshoten-2026/
LOCATION:Stadspark Winschoten\, Bovenburen 104\, Winschoten\, 9675HH\, Netherlands
CATEGORIES:Fantasy & Middeleeuwen
ATTACH;FMTTYPE=image/png:https://geekagenda.nl/wp-content/uploads/2025/10/Middeleeuws-Winschoten-2026.png
END:VEVENT
BEGIN:VEVENT
DTSTART;VALUE=DATE:20260826
DTEND;VALUE=DATE:20260831
DTSTAMP:20260423T003700
CREATED:20251012T182719Z
LAST-MODIFIED:20251029T181808Z
UID:10000017-1787702400-1788134399@geekagenda.nl
SUMMARY:Gamescom 2026
DESCRIPTION:Your gamescom is different. \nGamescom is not the same for everyone. You know that best yourself. Our festival is as diverse as our community. Here you’ll find a unique atmosphere characterised by enthusiasm\, passion and creativity – you won’t find that anywhere else! Our entertainment areas offer enough space for you and your interests. A colorful and exclusive event program awaits you there. Whether cosplay village\, retro\, indie\, merchandise or family & friends area\, let yourself be guided by the possibilities and your curiosity. \nThe gamescom campus also offers you numerous opportunities to start or expand your career in the gaming industry. \nWe look forward to see you! \nBeleef de sfeer op Gamescom\nKrijg alvast een indruk van het event met de aftermovie van een vorige editie! \n\nVoeg toe aan favorieten
URL:https://geekagenda.nl/event/gamescom-2026/
LOCATION:Koelnmesse\, Messeplatz 1\, Keulen\, 50679\, Germany
CATEGORIES:Gaming
END:VEVENT
BEGIN:VEVENT
DTSTART;VALUE=DATE:20260828
DTEND;VALUE=DATE:20260831
DTSTAMP:20260423T003700
CREATED:20251012T183039Z
LAST-MODIFIED:20251117T113433Z
UID:10000018-1787875200-1788134399@geekagenda.nl
SUMMARY:Viencon 2026
DESCRIPTION:Deze conventie\, die plaatsvindt in een Center Parcs\, is een ideale plek voor fans van anime\, cosplay en fotografie. Stel je een ruimte voor waar bezoekers zich volledig kunnen onderdompelen in hun passies zonder angst voor oordeel\, omringd door een gemeenschap van gelijkgestemden. \nDe prachtige omgeving van Center Parcs biedt diverse schilderachtige plekken die perfect zijn voor cosplayfotoshoots\, waaronder een prachtig zwembadgedeelte dat een unieke achtergrond biedt voor creatieve fotografie. Het evenement biedt diverse activiteiten\, zoals bierproeverijen voor volwassenen\, waarbij ze kunnen genieten van ambachtelijke bieren terwijl ze zich mengen met andere aanwezigen. \nDe Ducky Yard Sale stelt fans in staat anime-merchandise\, verzamelobjecten en kostuums te kopen of te verkopen. \nHet low-budget cosplay-evenement is perfect voor wie creativiteit wil laten zien. Een matsuri met traditionele Japanse festivalelementen\, waardoor bezoekers leuke spelletjes en culturele activiteiten kunnen ervaren. \n\nAls de nacht valt\, biedt het late feest de kans om te ontspannen\, te dansen en in een ontspannen sfeer contact te maken met anderen. Je kunt je terugtrekken in je ruime cottages\, de BBQ aansteken met vrienden en ontspannen van de dag. \nHet hele park bruist van mede-“weebs” die dezelfde interesse hebben\, wat zorgt voor een vriendelijke en relaxte sfeer die het als een echte feestdag doet voelen. Samengevat is Viençon niet zomaar een conventie; Het is een verkwikkende ontsnapping vol leuke activiteiten\, creatieve expressie en de vreugde van het verbinden met anderen die jouw passies delen. \n\n\nVoeg toe aan favorieten
URL:https://geekagenda.nl/event/viencon-2026/
LOCATION:Center Parcs Limburgse Peel\, Peelheideweg 25\, America\, Limburg\, 5966PJ\, Netherlands
CATEGORIES:Anime & Aziatisch
ATTACH;FMTTYPE=image/webp:https://geekagenda.nl/wp-content/uploads/2025/10/Viencon_logo_white_borders.webp
END:VEVENT
BEGIN:VEVENT
DTSTART;VALUE=DATE:20260919
DTEND;VALUE=DATE:20260921
DTSTAMP:20260423T003700
CREATED:20251015T215313Z
LAST-MODIFIED:20251029T181643Z
UID:10000041-1789776000-1789948799@geekagenda.nl
SUMMARY:Elfia Arcen 2026
DESCRIPTION:At the heart of any event is a big idea. Simple and memorable. For Elfia\, this big idea is: \n“You’ll never dream alone’. \nTogether we dream. Together we create. Beyond the borders of our imagination. Together we express those dreams and love to share them. \n\nWe look forward to welcoming you to this fairy-tale kingdom! \nBeleef de sfeer op Elfia Arcen\nKrijg alvast een indruk van het event met de aftermovie van een vorige editie! \n\nVoeg toe aan favorieten
URL:https://geekagenda.nl/event/elfia-arcen-2026/
LOCATION:Kasteeltuinen Arcen\, Lingsforterweg 26\, Arcen\, Limburg\, 5944BE\, Netherlands
CATEGORIES:Fantasy & Middeleeuwen
ATTACH;FMTTYPE=image/png:https://geekagenda.nl/wp-content/uploads/2025/10/elfia.png
END:VEVENT
BEGIN:VEVENT
DTSTART;VALUE=DATE:20261010
DTEND;VALUE=DATE:20261012
DTSTAMP:20260423T003700
CREATED:20260322T125214Z
LAST-MODIFIED:20260322T125214Z
UID:10000096-1791590400-1791763199@geekagenda.nl
SUMMARY:Cardmania Rosmalen XXL 2026
DESCRIPTION:Leuke TCG-Beurs voor jong & oud!\nCardMania is meer dan een TCG-markt\, het is een hele beleving! Naast een grote TCG-markt vind je er nog verschillende randactiviteiten die er een onvergetelijke dag of weekend van maken voor jong & oud! \nTCG-Markt\nZin om wat packs open te scheuren of koop je liever de laatste kaarten die je nog zoekt? Of mischien ben je wel op zoek naar een nieuwe map om je kaarten in te bewaren of gewoon wat plushies of kunstwerkjes van je favoriete karakters? Je vindt het allemaal op de CardMania TCG Markt! \nRuilzone\nNeem zeker ook je dubbele kaarten mee naar CardMania! Er is een grote ruilzone voorzien waar je naar hartenlust kan ruilen met andere bezoekers! \nToernooi & Learn to play\nBen je ervaren speler of heeft het altijd al gekriebeld om er mee te starten? Op CardMania kan je verschillende TCGs leren spelen en als je er klaar voor bent ook deelnemen aan een officieel toernooi! \nWil je zeker zijn van je plaats bij een toernooi\, schrijf je dan op voorhand in. \nKinderanimatie\nAltijd al op de foto willen gaan met Pikachu? Of wordt je liever zelf een Pikachu aan de schmink-stand? Of ga je liever helemaal los op een springkussen? \nVoeg toe aan favorieten
URL:https://geekagenda.nl/event/cardmania-rosmalen-xxl/
LOCATION:Autotron Rosmalen\, Graafsebaan 133\, Rosmalen\, 5248 NL\, Netherlands
CATEGORIES:Board & Cardgames
ATTACH;FMTTYPE=image/png:https://geekagenda.nl/wp-content/uploads/2026/03/cropped-cardmania-rosmalen-xxl-logo-300x195-1.png
END:VEVENT
BEGIN:VEVENT
DTSTART;VALUE=DATE:20261212
DTEND;VALUE=DATE:20261214
DTSTAMP:20260423T003700
CREATED:20260322T124658Z
LAST-MODIFIED:20260322T124658Z
UID:10000095-1797033600-1797206399@geekagenda.nl
SUMMARY:Comic Con Luxembourg 2026
DESCRIPTION:Comic Con Luxembourg is the event in Luxembourg for all true fans and enthusiasts of Comics\, Manga\, Cosplay\, Gaming\, Films\, Series\, Sci-Fi\, Fantasy and more. \nEscape to a magical world\, the ultimate Geek experience with world famous star guests to meet and a huge Geek Market to visit. \nBut also fascinating workshops\, Q&As and lectures\, but you can also just play games and enjoy the many competitions and performances. \nAbove all\, it is the perfect time to make friends and have a fun day with other fans. \nCome on Luxembourg\, Get Your Geek On! \nVoeg toe aan favorieten
URL:https://geekagenda.nl/event/comic-con-luxembourg/
LOCATION:Luxexpo\, 20 Rue Hugo Gernsback\, Kirchberg Luxemburg\, 1855\, Luxembourg
CATEGORIES:Popcultuur & Comic Cons
ATTACH;FMTTYPE=image/png:https://geekagenda.nl/wp-content/uploads/2026/03/CCL_Logo_small-uai-720x470-1.png
END:VEVENT
END:VCALENDAR