BEGIN:VCALENDAR
VERSION:2.0
PRODID:-//GeekAgenda - ECPv6.15.18//NONSGML v1.0//EN
CALSCALE:GREGORIAN
METHOD:PUBLISH
X-WR-CALNAME:GeekAgenda
X-ORIGINAL-URL:https://geekagenda.nl
X-WR-CALDESC:Evenementen voor GeekAgenda
REFRESH-INTERVAL;VALUE=DURATION:PT1H
X-Robots-Tag:noindex
X-PUBLISHED-TTL:PT1H
BEGIN:VTIMEZONE
TZID:Europe/Amsterdam
BEGIN:DAYLIGHT
TZOFFSETFROM:+0100
TZOFFSETTO:+0200
TZNAME:CEST
DTSTART:20240331T010000
END:DAYLIGHT
BEGIN:STANDARD
TZOFFSETFROM:+0200
TZOFFSETTO:+0100
TZNAME:CET
DTSTART:20241027T010000
END:STANDARD
BEGIN:DAYLIGHT
TZOFFSETFROM:+0100
TZOFFSETTO:+0200
TZNAME:CEST
DTSTART:20250330T010000
END:DAYLIGHT
BEGIN:STANDARD
TZOFFSETFROM:+0200
TZOFFSETTO:+0100
TZNAME:CET
DTSTART:20251026T010000
END:STANDARD
BEGIN:DAYLIGHT
TZOFFSETFROM:+0100
TZOFFSETTO:+0200
TZNAME:CEST
DTSTART:20260329T010000
END:DAYLIGHT
BEGIN:STANDARD
TZOFFSETFROM:+0200
TZOFFSETTO:+0100
TZNAME:CET
DTSTART:20261025T010000
END:STANDARD
BEGIN:DAYLIGHT
TZOFFSETFROM:+0100
TZOFFSETTO:+0200
TZNAME:CEST
DTSTART:20270328T010000
END:DAYLIGHT
BEGIN:STANDARD
TZOFFSETFROM:+0200
TZOFFSETTO:+0100
TZNAME:CET
DTSTART:20271031T010000
END:STANDARD
END:VTIMEZONE
BEGIN:VEVENT
DTSTART;VALUE=DATE:20250315
DTEND;VALUE=DATE:20250317
DTSTAMP:20260423T003607
CREATED:20251012T164955Z
LAST-MODIFIED:20251029T182001Z
UID:10000009-1741996800-1742169599@geekagenda.nl
SUMMARY:Comic Film Manga Fest 2025
DESCRIPTION:Kom langs wanneer onze sterrengasten\, artiesten en cosplay-gasten aanwezig zijn op het COMIC\, FILM & MANGA FEST in Rotterdam. Verheug je op een scala aan nationale en internationale gasten uit de televisie- en filmwereld\, evenals artiesten en cosplayers. \nVoeg toe aan favorieten
URL:https://geekagenda.nl/event/comic-film-manga-fest-2025/
LOCATION:Rotterdam Ahoy\, Ahoyweg 10\, Rotterdam\, Zuid-Holland\, 3084BA\, Netherlands
CATEGORIES:Popcultuur & Comic Cons
END:VEVENT
BEGIN:VEVENT
DTSTART;VALUE=DATE:20250927
DTEND;VALUE=DATE:20250929
DTSTAMP:20260423T003607
CREATED:20251012T184231Z
LAST-MODIFIED:20251029T181958Z
UID:10000021-1758931200-1759103999@geekagenda.nl
SUMMARY:TomoFair Utrecht
DESCRIPTION:Dé indoor Japanse markt van NL! \nSinds 2014 elk jaar uitverkocht en nu een editie in Gietijzer-Utrecht! Gaming\, anime\, cosplay en manga\, shows en lekker eten. \n\nBeleef de sfeer op TomoFair Utrecht\nKrijg alvast een indruk van het event met de aftermovie van een vorige editie! \n\nVoeg toe aan favorieten
URL:https://geekagenda.nl/event/tomofair-utrecht/
LOCATION:Gietijzer\, Gietijzerstraat 3\, Utrecht\, Utrecht\, 3534AV\, Netherlands
CATEGORIES:Anime & Aziatisch
END:VEVENT
BEGIN:VEVENT
DTSTART;VALUE=DATE:20251010
DTEND;VALUE=DATE:20251013
DTSTAMP:20260423T003607
CREATED:20251012T181057Z
LAST-MODIFIED:20251029T181957Z
UID:10000015-1760054400-1760313599@geekagenda.nl
SUMMARY:Polaris Con
DESCRIPTION:Here you can be yourself\, or your favorite character! \n\n\n\n\nPOLARIS is the event for everyone who celebrates games\, anime\, cosplay \, and their favorite creators right in the heart of Hamburg! \nFrom October 10th to 12th\, 2025\, you can game\, meet stars\, shop\, be creative\, and have a great time with your community. Whether alone\, with friends\, or in cosplay: POLARIS is the weekend you’ll be looking forward to all year! \nBeleef de sfeer op Polaris Con\nKrijg alvast een indruk van het event met de aftermovie van een vorige editie! \n\n\n\n\nVoeg toe aan favorieten
URL:https://geekagenda.nl/event/polaris-con/
LOCATION:Messe Hamburg\, Messeplatz 1\, Hamburg\, 20357\, Germany
CATEGORIES:Popcultuur & Comic Cons
ATTACH;FMTTYPE=image/png:https://geekagenda.nl/wp-content/uploads/2025/10/Polaris25-Keyart-klein-1935x2048-1.png
END:VEVENT
BEGIN:VEVENT
DTSTART;VALUE=DATE:20251213
DTEND;VALUE=DATE:20251214
DTSTAMP:20260423T003607
CREATED:20251012T184531Z
LAST-MODIFIED:20251029T181943Z
UID:10000022-1765584000-1765670399@geekagenda.nl
SUMMARY:TomoFair XMAS
DESCRIPTION:TomoFair Rotterdam Xmas edition! \nLekker Japans genieten op de grootste indoor Japanse markt van NL! Kerst thema: kom in je mooiste (of foutste) kerstoutfit! Honderden meters kramen met anime\, cosplay\, merch\, games en meer voor jong & oud! \nBeleef de sfeer op TomoFair XMAS\nKrijg alvast een indruk van het event met de aftermovie van een vorige editie! \n\n\n\nVoeg toe aan favorieten
URL:https://geekagenda.nl/event/tomofair-xmas/
LOCATION:Sporthal de Lijster\, Lijstersingel 20\, Capelle aan den IJssel\, Zuid-Holland\, 2902JD\, Netherlands
CATEGORIES:Anime & Aziatisch
END:VEVENT
BEGIN:VEVENT
DTSTART;VALUE=DATE:20251220
DTEND;VALUE=DATE:20251222
DTSTAMP:20260423T003607
CREATED:20251016T132244Z
LAST-MODIFIED:20251029T181942Z
UID:10000042-1766188800-1766361599@geekagenda.nl
SUMMARY:Geek Village Winter Tales 2025
DESCRIPTION:Step into a world where fantasy\, fandom\, and festival energy collide.\n\n\n\nA Glimpse of Saturday at Geek Village: Winter Tales.\nCosplay Contest – Celebrate creativity with our big cosplay competition on Saturday!\nMeet & Greets – Meet international cosplayers\, actors\, and creators!\nWorkshops – Learn how to craft or explore your creativity.\nGaming Tournaments – Compete in popular video games or relive classics in the retro corner.\nFire Shows – Experience breathtaking fire performances\nArtist Alley – Explore original artworks\, illustrations\, crafts\, and fan creations.\nCollectibles Market – Hunt for figures\, trading cards\, tabletop games\, and rare merch.\nFood Truck Plaza – Delicious bites from diverse kitchens.\n18+ Zone – A geeky playground for the curious: 18+ artists\, hentai\,  hentai-inspired art\, risqué figurines\, and more playful content.\nMain Stage Entertainment – Live music\, performances\, and a closing show to end the day in style. \nA Glimpse of Sunday at Geek Village: Winter Tales\nCostume Contest – Celebrate creativity of all kinds with our inclusive competition.\nNCC Qualifier – Watch top Belgian cosplayers compete for a spot at the Nordic Cosplay Championship!\nGuest Panels & Q&As – Meet and interact with our invited guests.\nWorkshops – From crafting and painting to hands-on creative sessions.\nGaming Zone – Retro and modern games to discover and enjoy.\nFire Show – Spectacular live performance to ignite the atmosphere.\nArtist Alley – Explore unique\, handmade artworks and creations.\nCollectibles Market – Browse trading cards\, tabletop games\, rare figurines\, and geeky treasures.\nFood Truck Plaza – A variety of food and drinks to enjoy throughout the day.\n18+ Zone – A geeky playground for the curious: 18+ artists\, hentai\,  hentai-inspired art\, risqué figurines\, and more playful content. \nGeek Village isn’t just an event\nIt’s a living\, breathing village where every corner bursts with magic. Whether you’re a cosplayer\, a comic collector\, a gamer\, a music lover\, or just wildly curious\, this is your home. \nBeleef de sfeer op Geek Village\nKrijg alvast een indruk van het event met de aftermovie van een vorige editie! \n\n\n\nVoeg toe aan favorieten
URL:https://geekagenda.nl/event/geek-village-winter-tales-2025/
LOCATION:Trixxo Arena Hasselt\, Gouverneur Verwilghensingel 70\, Hasselt\, 3500\, Belgium
CATEGORIES:Popcultuur & Comic Cons
ATTACH;FMTTYPE=image/png:https://geekagenda.nl/wp-content/uploads/2025/10/logo-trans-BG-Winter-Tales-2000-x-2000-px-raw0ionyv6fosymn3rv6yb21kbuzpkxtml8yj55nrc.png
END:VEVENT
BEGIN:VEVENT
DTSTART;VALUE=DATE:20251228
DTEND;VALUE=DATE:20251229
DTSTAMP:20260423T003607
CREATED:20251207T133434Z
LAST-MODIFIED:20251207T133434Z
UID:10000058-1766880000-1766966399@geekagenda.nl
SUMMARY:Otakat 2025
DESCRIPTION:Na een super geslaagde eerste editie keert Otakat terug! Op zondag 28 december wordt De Cacaofabriek opnieuw omgetoverd tot hét paradijs voor fans van Japanse popcultuur. Dompel je onder in een gezellige artist alley\, geniet van live-optredens\, J-pop\, heerlijk Japans eten en nog veel meer! \n\n\n\nMeet the performers!\n\nUnmei Idols\nWij zijn Unmei Idols! Een J-pop idol dans covergroep die danst op vrolijke en energieke nummers uit Japan. De nummers zijn bekend van idol franchises zoals Love Live!\, The iDolm@ster\, nummers uit anime\, vocaloid en van real-life idols zoals iLife!. Dit jaar zijn we terug op Otakat met onze sprankelende energie om de schemerige winter op te lichten met een show vol kleur\, licht en vrolijkheid! We nemen jullie mee in de Japanse idolwereld\, met zelf ontworpen kostuums en een setlist van drie uiteenlopende nummers. Zeven van onze leden brengen een show die net zo kleurrijk\, betoverend en divers is als het noorderlicht. Zien we je daar? \nWonderful☆Smiles\nOperation: Creating wonderful Smiles…! Hm… Zal degene die de meeste mensen laat lachen de beste zijn? Nee? Laat maar\, dan!Wat als je allemaal de beste wilt zijn? Ga je elkaar in de gaten houden? Vingers wijzen? Misschien loopt de jaloezie wel zo hoog op… Of ga je samen naar de top? Want samen bereik je toch veel meer? ☆ ]Wij zijn Wonderful☆Smiles: een Wonderlands×Showtime dance cover groep! Wij voeren graag shows op waarbij we onze creatieve talenten combineren\, zoals tekenen\, editen\, acteren\, en natuurlijk\, dansen! We hopen jullie te zien op Otakat~ \nSoLuna\nWe are SoLuna Idols\, an odottemita group who focuses on telling storylines through their dancing by using “Idolsona’s”. This Otakat we will conquer this haunted stage\, will you be brave enough to join our blooming nightfall? We hope to see you there! If you dare…\nBonBun\nBonBun is a dance focused idol. This cute cat puts all her energy into sharing her love for idols with everyone! Turn your penlights purple for Bonnie! \nChinetsu Ai\n‘Today\, I brought you Otakus your favourites! All of you Otakus! Know what this is!? Let’s get hyped together!!’ Hi\, Otakat!! I’m Chinetsu Ai! A cosplay idol\, whose goal is to represent your favourite characters on stage. This time I’m bringing you everyone’s favourite chronically online idol – Riamu Yumemi! Light up your penlights pink and blue\, it’s time for wotagei! \nCher\nHi hi\, I’m cher! Your light blue sheep performer. I’m excited to be on stage again and show you all what i’ve been working on!\nI hope you all will enjoy what i have in store. \nMegan-Metal\nMegan-Metal is een Nederlandse BABYMETAL cover idol. Met haar mix van ‘kawaii’ en ‘metal’ komt ze iedereen omver blazen. Are you ready to headbang? \nMonochromatic GOOD GANG\nWe are Monochromatic Good Gang – or MGG in short – and we are a dance group formed in mid-2024 that focuses on Project Sekai covers of the subunit Vivid Bad Squad. This means that we primarily perform in a combination of idol and hiphop style.\nSanRozu\nWe are SanRozu! A small dutch kaigai idol dance group. We will be performing a short show about one of our members’ amazing dream. Join us on a performance unlike our other. \nDivine Prey\nNice to meet you. We are divine prey! a devilishly angelic idol duo. We dance\, we sing\, and all the steps in between. Ready to captivate hearts\, occupy your minds\, and give you a performance to remember. \n\n\n\n\n  \n  \nVoeg toe aan favorieten
URL:https://geekagenda.nl/event/otakat-2025/
LOCATION:De Cacao Fabriek\, Cacaokade 1\, Helmond\, 5705LA\, Netherlands
CATEGORIES:Anime & Aziatisch
ATTACH;FMTTYPE=image/jpeg:https://geekagenda.nl/wp-content/uploads/2025/12/otakat-s1920x1080.jpg
END:VEVENT
BEGIN:VEVENT
DTSTART;VALUE=DATE:20260124
DTEND;VALUE=DATE:20260126
DTSTAMP:20260423T003607
CREATED:20251013T132528Z
LAST-MODIFIED:20251029T181938Z
UID:10000034-1769212800-1769385599@geekagenda.nl
SUMMARY:FantasyXPO 2026
DESCRIPTION:Bewonder\, verzamel & omarm!\n\nStap binnen in een wereld waar het ongewone heel gewoon is. Waar elfenvleugels ritselen in de wind\, draken zacht grommen vanuit de schaduwen en je in elke hoek een nieuw verhaal ontdekt. \nVan ridders tot tovenaars en feeën\, je ontmoet ze allemaal tussen de stands vol handgemaakte artefacten\, unieke verzamelstukken en betoverende accessoires. \nOnze paden leiden langs interactieve zones vol spektakel: meeslepende shows\, meeslepende rollenspellen en meeslepende ontmoetingen (ja\, alles is meeslepend). Hier kun je leren hoe je een spreuk uitspreekt\, een zwaard hanteert of gewoon verdwalen in een goed fantasyboek. \nFantasyXpo is dé plek waar liefhebbers van het fantastische samenkomen om te bewonderen\, te verzamelen en alles te omarmen. Of je nu een doorgewinterde cosplayer bent of je allereerste stappen zet in een wereld vol magie\, hier hoor je thuis. Welkom bij FantasyXpo. \n\nVoeg toe aan favorieten
URL:https://geekagenda.nl/event/fantasyxpo-2026/
LOCATION:Expo Greater Amsterdam\, Stelling 1\, Vijfhuizen\, Noord-Holland\, 2141SB\, Netherlands
CATEGORIES:Fantasy & Middeleeuwen
ATTACH;FMTTYPE=image/png:https://geekagenda.nl/wp-content/uploads/2025/10/Logo-FantasyXpo-donker-1024x349-1.png
END:VEVENT
BEGIN:VEVENT
DTSTART;VALUE=DATE:20260125
DTEND;VALUE=DATE:20260126
DTSTAMP:20260423T003607
CREATED:20260109T234146Z
LAST-MODIFIED:20260109T234146Z
UID:10000063-1769299200-1769385599@geekagenda.nl
SUMMARY:Isekai Con Chibi edition 2026
DESCRIPTION:Isekai Con chibi edition. Een mini anime con in Rotterdam vol cosplay\, chaos en community! Klein\, knus en gezellig. \nEen blast from the past: Isekai Con \nDe mini anime con van het oude Westen! \n\n⁣Wat kun je verwachten?\nEen hele dag gevuld met alles wat een anime con leuk maakt. \n\n⁣Cosplay & sfeer\nLaat je creativiteit zien bij de Cosplay Catwalk of geniet van de cosplay om je heen. \n(Let wel op: er zijn geen aparte kleedkamers aanwezig.) \n\n⁣Workshops & creativiteit\nMaak je eigen armbanden\, sleutelhangers en totebags\, of geef je meegebrachte kleding een anime-make-over in de Craft Room. \n\n⁣Gaming & toernooien\nDoe mee met toernooien of game gewoon met (nieuwe) vrienden. \n\n⁣Hot Take Room\nDe thuisbasis van onze lokale madman\, berucht om zijn vurige maar doordachte anime-opinies. \nElke 15 minuten een nieuwe sessie vol spanning\, frustratie en scherpe humor. \nHij is unhinged\, maar onderbouwd. Kun jij hem de mond snoeren in discussie? He Must Be Stopped!!! \n\n⁣Beamer Room\nQuizzen\, Karaoke\, Weerwolven en Game Shows. Doe of kijk gezellig mee. \n\n⁣TCG Spot\nRuil je kaarten in een ontspannen setting. \n\n⁣Food & Drinks\nGeniet van Japanese-inspired meals\, bubble tea en snacks in de Kitchen Hall en Sweet Spot. \nVoeg toe aan favorieten
URL:https://geekagenda.nl/event/isekai-con-chibi/
LOCATION:Buurthuis De Nieuwe Gaffel\, Gaffelstraat 63A\, Rotterdam\, 3014RC\, Netherlands
CATEGORIES:Anime & Aziatisch
ATTACH;FMTTYPE=image/jpeg:https://geekagenda.nl/wp-content/uploads/2026/01/https___cdn.evbuc_.com_images_1170586335_2979992697271_1_original.jpg
END:VEVENT
BEGIN:VEVENT
DTSTART;VALUE=DATE:20260213
DTEND;VALUE=DATE:20260216
DTSTAMP:20260423T003607
CREATED:20260113T102840Z
LAST-MODIFIED:20260113T102854Z
UID:10000067-1770940800-1771199999@geekagenda.nl
SUMMARY:DeDeCo 2026
DESCRIPTION:Wat is DeDeCo?\nSinds 2012 vindt het evenement DeDeCo in februari/begin maart plaats in het prachtige Dresden. Na de verhuizing naar een deel van het terrein van de MESSE DRESDEN wordt dit omgetoverd tot een kleurrijke plek waar niet alleen fanatieke manga-\, anime- en Japan-fans hun hobby kunnen beleven en samen met gelijkgestemden volop plezier hebben. \nOok nieuwkomers\, familieleden en andere geïnteresseerden zijn van harte welkom. Hieronder lees je wat er allemaal te beleven valt tijdens DeDeCo. \nAlle evenementen van DeDeCo e.V. zijn non-profit en worden volledig door vrijwilligers georganiseerd. \nActie op het podium\nShowgroepen die favoriete personages en series tot leven brengen\, dansgroepen\, solo-acts\, cosplaywedstrijden en comedians zorgen samen voor een gevarieerd podiumprogramma. Op zowel het grote als het kleine podium is er van alles te zien en te doen. Denk aan con-eigen Jeopardy\, karaoke\, lezingen en zangoptredens – voor iedere bezoeker is er iets te beleven. \nShootingstars overal\nOf het nu gaat om fotoshoots bij con-fotografen of eigen fotosessies: DeDeCo biedt volop ruimte en diverse achtergronden voor kostuumdragers en fotografieliefhebbers om personages prachtig vast te leggen. \nDaarnaast worden meerdere keren per jaar fototours georganiseerd. Tijdens deze tours laten fotografen en vrijwilligers de mooiste plekken van Dresden zien\, waar bezoekers samen met hun kostuum in uiteenlopende omgevingen gefotografeerd worden. \nGarderobe ter plaatse\nEen kostuum dragen op een conventie is ontzettend leuk\, maar praktische zaken mogen niet ontbreken. Bezoekers kunnen gebruikmaken van een garderobe voor jassen\, koffers en andere spullen\, zodat zij zich zorgeloos kunnen omkleden en genieten van het evenement. \nShoppen hoort erbij\nOf je nu met volle tassen naar huis gaat of op zoek bent naar een klein souvenir: de diverse verkoopstands laten fanharten sneller kloppen. In de grote verkoophal zijn onder andere figuren\, knuffels\, manga’s\, boeken\, kleding en andere producten uit de manga-\, anime- en Japan-wereld te vinden. \nVoor unieke en handgemaakte items zijn de Artist Alley en de Newcomer Area zeker een bezoek waard. Hier bieden artiesten hun creatieve werken aan\, zoals illustraties\, zelfgemaakte sieraden en handwerk. \nSpelen tot je vingers gloeien\nOok gameliefhebbers komen volop aan hun trekken. In de gameroom staan verschillende consoles en spellen klaar om uitgeprobeerd te worden. Tijdens competities\, zoals Mario Kart-toernooien\, kunnen bezoekers hun vaardigheden meten met anderen en kans maken op leuke prijzen. \nCreativiteit en workshops\nDeDeCo draait niet alleen om entertainment\, maar ook om inspiratie en creativiteit. Er zijn tal van workshops en lezingen over onderwerpen als cosplay\, podiumoptredens\, knutseltechnieken en Japanse cultuur. Daarnaast zijn er faciliteiten zoals een naaimachineruimte en een Crafting Corner\, waar bezoekers zelf aan de slag kunnen of tips krijgen van ervaren makers. \nIets zoets tussendoor\nGeïnspireerd door Japanse themacafés is er een maid-café waar bediening in schattige kostuums kleine taartjes en zoete lekkernijen serveert. Met een kop thee of een andere warme drank kunnen bezoekers hier even ontspannen in een sfeervolle omgeving. \nOok leuk voor jonge bezoekers\nOok gezinnen met jongere kinderen kunnen zich uitstekend vermaken op DeDeCo. Het programma bevat diverse kleurrijke en gezinsvriendelijke activiteiten. Bezoekers kunnen vooraf het programma bekijken of zich ter plekke laten verrassen. \nVoeg toe aan favorieten
URL:https://geekagenda.nl/event/dedeco/
LOCATION:Messe Dresden\, Messering 6\, Dresden\, 01067\, Germany
CATEGORIES:Anime & Aziatisch
ATTACH;FMTTYPE=image/png:https://geekagenda.nl/wp-content/uploads/2026/01/02643da38c008b7720477b0470f164ad.png
END:VEVENT
BEGIN:VEVENT
DTSTART;VALUE=DATE:20260221
DTEND;VALUE=DATE:20260223
DTSTAMP:20260423T003607
CREATED:20251007T190814Z
LAST-MODIFIED:20260113T205016Z
UID:10000003-1771632000-1771804799@geekagenda.nl
SUMMARY:Fantasy Fest 2026
DESCRIPTION:Fantasy Fest is het festival waar je heerlijk kunt genieten van alles wat te maken heeft met Fantasy\, Cosplay\, Gothic\, Steampunk\, Anime\, Manga etc. \nStruin langs de vele kraampjes met mooie producten\, zoals kleding\, sieraden\, leuke snuisterijen of mooie accessoires voor in je huis. Daarnaast kun je volop genieten van entertainment. Beide dagen is er een uitgebreid entertainmentprogramma. Tevens kun je ook lekker eten halen bij de restaurantjes die aanwezig zijn bij Fantasy Fest. \n\nVoeg toe aan favorieten
URL:https://geekagenda.nl/event/fantasy-fest/
LOCATION:De Broodfabriek\, Volmerlaan 12\, Rijswijk\, Zuid-Holland\, 2288GD\, Netherlands
CATEGORIES:Fantasy & Middeleeuwen
ATTACH;FMTTYPE=image/jpeg:https://geekagenda.nl/wp-content/uploads/2025/10/fantasy-fest-350x113-1.jpg
ORGANIZER;CN="De Broodfabriek":MAILTO:fantasyfest@de-broodfabriek.nl
END:VEVENT
BEGIN:VEVENT
DTSTART;VALUE=DATE:20260319
DTEND;VALUE=DATE:20260323
DTSTAMP:20260423T003607
CREATED:20251012T185126Z
LAST-MODIFIED:20251029T181932Z
UID:10000024-1773878400-1774223999@geekagenda.nl
SUMMARY:Manga Comic Con
DESCRIPTION:Welcome to the colourful world of Manga Comic Con. For four days we’d like to celebrate your passion! What is there to experience? Numerous new publications by large publishers. Signing sessions with your stars. Exciting series at the Anime Cinema. Colourful cosplayers. And plenty of workshops. You all have so much imagination – and we have an entire hall for it. We look forward to seeing you! \nMCC is part of  Leipzig Book Fair  . So you can dive into the literary hustle and bustle whenever you like. The next Manga Comic Con will take place from 19 to 22 March 2026. \nBeleef de sfeer op Manga Comic Con\nKrijg alvast een indruk van het event met de aftermovie van een vorige editie! \n\n\n\nVoeg toe aan favorieten
URL:https://geekagenda.nl/event/manga-comic-con/
LOCATION:Leipzig Messe\, Messe-Allee 1\, Leipzig\, 04356\, Germany
CATEGORIES:Anime & Aziatisch,Popcultuur & Comic Cons
ATTACH;FMTTYPE=image/png:https://geekagenda.nl/wp-content/uploads/2025/10/mcc-logo-gross-rgb-547x400px.png
END:VEVENT
BEGIN:VEVENT
DTSTART;VALUE=DATE:20260321
DTEND;VALUE=DATE:20260323
DTSTAMP:20260423T003607
CREATED:20251012T183838Z
LAST-MODIFIED:20251029T181930Z
UID:10000020-1774051200-1774223999@geekagenda.nl
SUMMARY:Heroes made in Asia 2026
DESCRIPTION:Stap in de wereld van Aziatische popcultuur tijdens Heroes Made in Asia! Laat je meevoeren door de nieuwste anime en manga\, proef authentieke Aziatische gerechten\, bewonder indrukwekkende cosplays en dompel je onder in de wereld van gaming en TCG. Of je nu komt om je idolen te ontmoeten\, workshops te volgen of simpelweg de sfeer te proeven. Dit is het event waar fans samenkomen. Wees erbij en ervaar Azië van dichtbij! \nBeleef de sfeer op Heroes made in Asia\nKrijg alvast een indruk van het event met de aftermovie van een vorige editie! \n\nVoeg toe aan favorieten
URL:https://geekagenda.nl/event/heroes-made-in-asia-2026/
LOCATION:Jaarbeurs Utrecht\, Jaarbeursplein 15\, Utrecht\, Utrecht\, 3521AM
CATEGORIES:Anime & Aziatisch
ATTACH;FMTTYPE=image/png:https://geekagenda.nl/wp-content/uploads/2025/10/MIA25-Logo-Jaarbeurs-1536x776-1.png
END:VEVENT
BEGIN:VEVENT
DTSTART;VALUE=DATE:20260411
DTEND;VALUE=DATE:20260413
DTSTAMP:20260423T003607
CREATED:20251012T165636Z
LAST-MODIFIED:20260114T163409Z
UID:10000011-1775865600-1776038399@geekagenda.nl
SUMMARY:Facts 2026
DESCRIPTION:Watch movies\, series & gaming come to life in Belgium’s largest comic con festival and pop culture celebration! \n\n\n\n\nEscape reality and dive into the wonderful universe of FACTS\, Your Belgian Comic-Con! If you’re a fan of movies\, series\, video games\, board games\, cosplay\, superheroes\, anime\, and other pop culture phenomena\, then you won’t want to miss this two-day fandom festival. Curious to see what it’s like? Scroll down for an overview and watch last edition’s aftermovie! \nBeleef de sfeer op Facts\nKrijg alvast een indruk van het event met de aftermovie van een vorige editie! \n\n\n\nVoeg toe aan favorieten
URL:https://geekagenda.nl/event/facts/
LOCATION:Flanders Expo Ghent\, Maaltekouter 1\, Ghent\, Vlaanderen\, 9051\, Belgium
CATEGORIES:Popcultuur & Comic Cons
ATTACH;FMTTYPE=image/png:https://geekagenda.nl/wp-content/uploads/2025/10/logo-header-facts.png
END:VEVENT
BEGIN:VEVENT
DTSTART;VALUE=DATE:20260417
DTEND;VALUE=DATE:20260420
DTSTAMP:20260423T003607
CREATED:20251012T185455Z
LAST-MODIFIED:20251029T181928Z
UID:10000025-1776384000-1776643199@geekagenda.nl
SUMMARY:Animecon 2026
DESCRIPTION:AnimeCon 2026 zal plaatsvinden van 17 tot en met 19 april 2026! Het thema van deze editie is ‘Hidden Spirits’. \nAnimeCon festivals gaan over meer dan anime! Het zijn internationale festivals voor fans van anime\, cosplay\, games\, manga en populaire cultuur. \nVoeg toe aan favorieten
URL:https://geekagenda.nl/event/animecon-2026/
LOCATION:De Broodfabriek\, Volmerlaan 12\, Rijswijk\, Zuid-Holland\, 2288GD\, Netherlands
CATEGORIES:Anime & Aziatisch
ATTACH;FMTTYPE=image/png:https://geekagenda.nl/wp-content/uploads/2025/10/AnimeConLogo.png
END:VEVENT
END:VCALENDAR