BEGIN:VCALENDAR
VERSION:2.0
PRODID:-//GeekAgenda - ECPv6.15.18//NONSGML v1.0//EN
CALSCALE:GREGORIAN
METHOD:PUBLISH
X-ORIGINAL-URL:https://geekagenda.nl
X-WR-CALDESC:Evenementen voor GeekAgenda
REFRESH-INTERVAL;VALUE=DURATION:PT1H
X-Robots-Tag:noindex
X-PUBLISHED-TTL:PT1H
BEGIN:VTIMEZONE
TZID:Europe/Amsterdam
BEGIN:DAYLIGHT
TZOFFSETFROM:+0100
TZOFFSETTO:+0200
TZNAME:CEST
DTSTART:20250330T010000
END:DAYLIGHT
BEGIN:STANDARD
TZOFFSETFROM:+0200
TZOFFSETTO:+0100
TZNAME:CET
DTSTART:20251026T010000
END:STANDARD
BEGIN:DAYLIGHT
TZOFFSETFROM:+0100
TZOFFSETTO:+0200
TZNAME:CEST
DTSTART:20260329T010000
END:DAYLIGHT
BEGIN:STANDARD
TZOFFSETFROM:+0200
TZOFFSETTO:+0100
TZNAME:CET
DTSTART:20261025T010000
END:STANDARD
BEGIN:DAYLIGHT
TZOFFSETFROM:+0100
TZOFFSETTO:+0200
TZNAME:CEST
DTSTART:20270328T010000
END:DAYLIGHT
BEGIN:STANDARD
TZOFFSETFROM:+0200
TZOFFSETTO:+0100
TZNAME:CET
DTSTART:20271031T010000
END:STANDARD
END:VTIMEZONE
BEGIN:VEVENT
DTSTART;VALUE=DATE:20260131
DTEND;VALUE=DATE:20260201
DTSTAMP:20260423T003750
CREATED:20260115T181748Z
LAST-MODIFIED:20260115T181748Z
UID:10000079-1769817600-1769903999@geekagenda.nl
SUMMARY:Show Yourself Market 2026
DESCRIPTION:De Show Yourself Market is een evenement waar jonge creatieve mensen samenkomen. Het is een veilige plek waar je volledig jezelf kunt zijn zonder oordeel\, en waar je wordt geaccepteerd om wie je bent. \nHet is een plek waar makers hun eerste stap kunnen zetten om hun handgemaakte\, zelfontworpen producten aan de wereld te laten zien\, contact kunnen leggen met anderen en plezier kunnen hebben. Doe mee aan onze activiteiten gedurende de dag\, haal iets lekkers bij de food corner of shop bij jouw favoriete kleine ondernemers. \nEen community waarin we elkaar steunen. \nVoeg toe aan favorieten
URL:https://geekagenda.nl/event/show-yourself-market/
LOCATION:HAL25\, Pettemerstraat 15\, Alkmaar\, 1823 CW\, Netherlands
CATEGORIES:Hobby & Creatief
ATTACH;FMTTYPE=image/png:https://geekagenda.nl/wp-content/uploads/2026/01/7984b622d63741694b4fbe5f53ce5ba0.png
END:VEVENT
BEGIN:VEVENT
DTSTART;VALUE=DATE:20260411
DTEND;VALUE=DATE:20260412
DTSTAMP:20260423T003750
CREATED:20251012T181943Z
LAST-MODIFIED:20260114T162539Z
UID:10000016-1775865600-1775951999@geekagenda.nl
SUMMARY:Roll Initiative Con/RINCON 2026
DESCRIPTION:About RINCON \nRINCON is a feeling\, it is the passion for the story – the adventure. It is the realm of fantasy where everything is possible\, it is the feeling of freedom\, a blank canvas. It is solidarity\, teamwork\, friendship and the feeling of belonging. \nRINCON is the first fully TTRPG focused convention in the Netherlands and it is carried by a loving community. \nRINCON started as a wish\, a thought: ‘Why isn’t there a TTRPG convention in the Netherlands?’ From there fellow adventurers were found\, alliances were made\, knowledge that wanted to be shared was discovered and merchants far and wide came to show their wares. \nRINCON is organised by Ann de Leeuw\, who gets help from a small team of volunteers which they call loveingly the Knights of RINCON. Together we will bring our passion for TTRPGs to life at an epic one day only convention filled with workshops\, speakers\, live games\, vendors and artists. \nWill you be there? \nVoeg toe aan favorieten
URL:https://geekagenda.nl/event/roll-initiative-con-rincon/
LOCATION:MFA ’t Hart Ewijk\, Den Elt 17\, Ewijk\, Gelderland\, 6644EA\, Netherlands
CATEGORIES:Gaming
ATTACH;FMTTYPE=image/webp:https://geekagenda.nl/wp-content/uploads/2025/10/RINCON-logo-transparant-01.webp
ORGANIZER;CN="RedHead Games":MAILTO:Contact@rollinitiativecon.nl
END:VEVENT
END:VCALENDAR