BEGIN:VCALENDAR
VERSION:2.0
PRODID:-//GeekAgenda - ECPv6.15.18//NONSGML v1.0//EN
CALSCALE:GREGORIAN
METHOD:PUBLISH
X-WR-CALNAME:GeekAgenda
X-ORIGINAL-URL:https://geekagenda.nl
X-WR-CALDESC:Evenementen voor GeekAgenda
REFRESH-INTERVAL;VALUE=DURATION:PT1H
X-Robots-Tag:noindex
X-PUBLISHED-TTL:PT1H
BEGIN:VTIMEZONE
TZID:Europe/Amsterdam
BEGIN:DAYLIGHT
TZOFFSETFROM:+0100
TZOFFSETTO:+0200
TZNAME:CEST
DTSTART:20240331T010000
END:DAYLIGHT
BEGIN:STANDARD
TZOFFSETFROM:+0200
TZOFFSETTO:+0100
TZNAME:CET
DTSTART:20241027T010000
END:STANDARD
BEGIN:DAYLIGHT
TZOFFSETFROM:+0100
TZOFFSETTO:+0200
TZNAME:CEST
DTSTART:20250330T010000
END:DAYLIGHT
BEGIN:STANDARD
TZOFFSETFROM:+0200
TZOFFSETTO:+0100
TZNAME:CET
DTSTART:20251026T010000
END:STANDARD
BEGIN:DAYLIGHT
TZOFFSETFROM:+0100
TZOFFSETTO:+0200
TZNAME:CEST
DTSTART:20260329T010000
END:DAYLIGHT
BEGIN:STANDARD
TZOFFSETFROM:+0200
TZOFFSETTO:+0100
TZNAME:CET
DTSTART:20261025T010000
END:STANDARD
BEGIN:DAYLIGHT
TZOFFSETFROM:+0100
TZOFFSETTO:+0200
TZNAME:CEST
DTSTART:20270328T010000
END:DAYLIGHT
BEGIN:STANDARD
TZOFFSETFROM:+0200
TZOFFSETTO:+0100
TZNAME:CET
DTSTART:20271031T010000
END:STANDARD
END:VTIMEZONE
BEGIN:VEVENT
DTSTART;VALUE=DATE:20250315
DTEND;VALUE=DATE:20250317
DTSTAMP:20260423T003520
CREATED:20251012T164955Z
LAST-MODIFIED:20251029T182001Z
UID:10000009-1741996800-1742169599@geekagenda.nl
SUMMARY:Comic Film Manga Fest 2025
DESCRIPTION:Kom langs wanneer onze sterrengasten\, artiesten en cosplay-gasten aanwezig zijn op het COMIC\, FILM & MANGA FEST in Rotterdam. Verheug je op een scala aan nationale en internationale gasten uit de televisie- en filmwereld\, evenals artiesten en cosplayers. \nVoeg toe aan favorieten
URL:https://geekagenda.nl/event/comic-film-manga-fest-2025/
LOCATION:Rotterdam Ahoy\, Ahoyweg 10\, Rotterdam\, Zuid-Holland\, 3084BA\, Netherlands
CATEGORIES:Popcultuur & Comic Cons
END:VEVENT
BEGIN:VEVENT
DTSTART;VALUE=DATE:20251010
DTEND;VALUE=DATE:20251013
DTSTAMP:20260423T003520
CREATED:20251012T181057Z
LAST-MODIFIED:20251029T181957Z
UID:10000015-1760054400-1760313599@geekagenda.nl
SUMMARY:Polaris Con
DESCRIPTION:Here you can be yourself\, or your favorite character! \n\n\n\n\nPOLARIS is the event for everyone who celebrates games\, anime\, cosplay \, and their favorite creators right in the heart of Hamburg! \nFrom October 10th to 12th\, 2025\, you can game\, meet stars\, shop\, be creative\, and have a great time with your community. Whether alone\, with friends\, or in cosplay: POLARIS is the weekend you’ll be looking forward to all year! \nBeleef de sfeer op Polaris Con\nKrijg alvast een indruk van het event met de aftermovie van een vorige editie! \n\n\n\n\nVoeg toe aan favorieten
URL:https://geekagenda.nl/event/polaris-con/
LOCATION:Messe Hamburg\, Messeplatz 1\, Hamburg\, 20357\, Germany
CATEGORIES:Popcultuur & Comic Cons
ATTACH;FMTTYPE=image/png:https://geekagenda.nl/wp-content/uploads/2025/10/Polaris25-Keyart-klein-1935x2048-1.png
END:VEVENT
BEGIN:VEVENT
DTSTART;VALUE=DATE:20251108
DTEND;VALUE=DATE:20251110
DTSTAMP:20260423T003520
CREATED:20251028T084458Z
LAST-MODIFIED:20251029T181949Z
UID:10000046-1762560000-1762732799@geekagenda.nl
SUMMARY:SpellenSpektakel Utrecht 2025
DESCRIPTION:Speel de nieuwste spellen op de grootste spellenbeurs van Nederland! Op het Spellenspektakel presenteren uitgevers hun nieuwste bord- en kaartspellen. \nToernooien\nDe beste spelers gaan de strijd met elkaar aan op het Spellenspektakel. Meet je krachten met anderen en wie weet ga jij met een mooie prijs naar huis! \nMiniatures\nDe strijd wordt op het Spellenspektakel niet alleen uitgevochten met bordspellen. Maar ook met miniatuurlegers vol tanks\, ridders en natuurlijk…. Space Marines! \nDe generaals van de Lage Landen sturen hun manschappen over het slagveld\, dat vol staat met gebouwen of ander materiaal. Alles om de setting waarin het gevecht plaatsvindt zo realistisch mogelijk te maken. \nTable Top RPG\nHelden opgelet\, tijdens het Spellenspektakel kun je terecht bij de Tabletop Roleplaying Games (TTRPG) voor een flinke portie avontuur! \nSchuif aan voor een intro-sessie Dungeons and Dragons\, Blood on the Clocktower\, Jubensha of een andere roleplaying game en laat je innerlijke held naar buiten treden. Stel je eigen personage samen en laat de spelwereld tot leven komen! \nBeleef de sfeer op SpellenSpektakel\nKrijg alvast een indruk van het event met de officiële aftermovie van de vorige editie! \n\nVoeg toe aan favorieten
URL:https://geekagenda.nl/event/spellenspektakel-utrecht-2025/
LOCATION:Jaarbeurs Utrecht\, Jaarbeursplein 15\, Utrecht\, Utrecht\, 3521AM
CATEGORIES:Board & Cardgames
ATTACH;FMTTYPE=image/png:https://geekagenda.nl/wp-content/uploads/2025/10/avatars.png
END:VEVENT
BEGIN:VEVENT
DTSTART;VALUE=DATE:20260131
DTEND;VALUE=DATE:20260202
DTSTAMP:20260423T003520
CREATED:20251204T175327Z
LAST-MODIFIED:20251204T175327Z
UID:10000057-1769817600-1769990399@geekagenda.nl
SUMMARY:Geeks & Freaks 2026
DESCRIPTION:De Geeks & Freaks Conventie is dé ultieme bijeenkomst voor liefhebbers van alles wat geeky en uniek is. Of je nu van strips\, sciencefiction\, fantasy of games houdt\, deze conventie biedt voor ieder wat wils. Het is een viering van creativiteit\, diversiteit en de gedeelde passie voor fandoms die ons samenbrengt. \nWat kan je zien & doen?\nEnkele hoogtepunten van het evenement: \nSpeciale gasten: Ontmoet fantastische en creatieve gasten.  \nPanels en workshops: Krijg inzicht in het creatieve proces en de trends in de branche met onze sessies onder leiding van experts.  \nCosplay Catwalk: Laat je kostuummaakvaardigheden zien en sluit je aan bij andere fans in een levendige demonstratie van creativiteit.  \nExposanten: Ontdek nieuwe merchandise\, verzamelobjecten en artwork van diverse leveranciers.  \nSFX/Make-up: is een fascinerende kunstvorm die creativiteit\, technische vaardigheden en een vleugje magie combineert om de realiteit te transformeren. Kom het zien! \nFanzones: Ontdek je fandom op Geeks & Freaks! Ben je klaar om je te verdiepen in een wereld waar fandoms tot leven komen en passies worden gevierd? Deel gerust je Geekdom!  \nDe kunst van bodypainting: Laat je creativiteit de vrije loop op Geeks & Freaks. Op evenementen zoals Geeks & Freaks tonen deze kunstenaars verbluffende creaties die de grens tussen realiteit en verbeelding doen vervagen.  \nGaming: Ben je een gamefanaat die graag in een spannende wereld van interactief entertainment duikt? Zoek niet verder! Op het congres hebben we een speciale ruimte gewijd aan gaming die veel plezier belooft!  \nSpeciaal het nieuwe horrorlabyrint: Ben je klaar voor een huiveringwekkend avontuur dat je moed en verstand op de proef stelt? Zoek niet verder dan het Horrorlabyrint\, een buitengewone attractie op het congres van dit jaar.  \nEn nog veel meer! \nVoeg toe aan favorieten
URL:https://geekagenda.nl/event/geeks-freaks-2026/
LOCATION:MECC Maastrict\, Forum 100\, Maastricht\, 6229GV\, Netherlands
CATEGORIES:Popcultuur & Comic Cons
ATTACH;FMTTYPE=image/png:https://geekagenda.nl/wp-content/uploads/2025/12/geeks-freaks_text-high.png
END:VEVENT
BEGIN:VEVENT
DTSTART;VALUE=DATE:20260207
DTEND;VALUE=DATE:20260208
DTSTAMP:20260423T003520
CREATED:20260113T131510Z
LAST-MODIFIED:20260113T131510Z
UID:10000068-1770422400-1770508799@geekagenda.nl
SUMMARY:TCG Expo 2026
DESCRIPTION:Het grootste Trading Card-evenement van het begin van het jaar\nOp zaterdag 7 februari keert TCG Expo terug met een nieuwe editie in een compacte en sfeervolle opzet van 4000 m²\, geheel ingericht voor iedereen die van Trading Cards\, collectibles en community houdt.\nOf je nu verzamelaar\, speler\, standhouder\, ouder of gewoon nieuwsgierig bent: TCG Expo brengt alles samen op één dag. \nWat kun je verwachten op TCG Expo?\nDe hal wordt volledig gevuld met een breed aanbod aan kaarten\, sealed producten\, graded slabs\, accessoires\, vintage en modern — van Pokémon tot One Piece\, van Lorcana tot Dragon Ball\, van Magic tot niche TCG’s.\nStandhouders uit heel Nederland en België zijn aanwezig om hun mooiste items te presenteren. \n\nSpecial Guest: Voice Actor Wordt bekend gemaakt!\nWe werken op dit moment aan de komst van een bekende voice actor voor een signeersessie en meet & greet.\nDe naam van de voiceactor wordt binnenkort bekend gemaakt!\nBereid je voor op een unieke kans om een stem uit jouw jeugd of favoriete serie in het echt te ontmoeten. \nKleurplatenwedstrijd voor jonge verzamelaars\nOok de jongste fans worden niet vergeten.\nZij kunnen meedoen aan onze kleurplatenwedstrijd\, waarbij er mooie prijzen te winnen zijn.\nEen ontspannen en creatieve activiteit voor kinderen terwijl ouders rondsnuffelen tussen de stands. \nSpringkussen voor extra fun\nVoor kinderen die hun energie kwijt willen hebben we een groot springkussen klaarstaan.\nDit maakt TCG Expo perfect als gezinsuitje\, waar jong en oud zich kan vermaken. \nRuilzone om je collectie te upgraden\nRuilen blijft één van de populairste onderdelen van TCG Expo.\nIn onze grote ruilzone kun je: \n– kaarten uitwisselen \n– deals sluiten \n– je verzameling uitbreiden \n– nieuwe mensen uit de community ontmoeten \nDeze zone is vrij toegankelijk voor alle bezoekers. \nStandhouders uit heel Nederland en België\nBij meer dan tientallen tafels vind je: \n– zeldzame kaarten \n– graded slabs \n– sealed boxen en packs \n– accessoires \n– mappen en sleeves \n– vintage collectables \n– deals voor elke prijsklasse \nZowel beginners als serieuze verzamelaars kunnen hun hart ophalen. \nHoreca & ontspanning\nEr is catering aanwezig voor snacks en drankjes\, zodat je tussen het struinen door even kunt bijkomen.\nGezinnen en bezoekers kunnen comfortabel pauze houden voordat ze weer verder gaan met ontdekken en ruilen. \nVoor wie is TCG Expo?\nTCG Expo is gemaakt voor: \n– Pokémon verzamelaars \n– One Piece fans \n– Lorcana spelers \n– Dragon Ball en Magic liefhebbers \n– vintage verzamelaars \n– ouders met kinderen \n– standhouders \n– ruiltafels \n– hobbyisten \nKortom: iedereen die Trading Cards en collectibles een warm hart toedraagt. \nVoeg toe aan favorieten
URL:https://geekagenda.nl/event/tcg-expo/
LOCATION:Taets Art and Event Park\, Middenweg 62\, Zaandam\, 1505RK\, Netherlands
CATEGORIES:Board & Cardgames
ATTACH;FMTTYPE=image/jpeg:https://geekagenda.nl/wp-content/uploads/2026/01/c59d85_e8f45e01e4dd404993a08efbf38e2260mv2.jpg
END:VEVENT
BEGIN:VEVENT
DTSTART;VALUE=DATE:20260221
DTEND;VALUE=DATE:20260223
DTSTAMP:20260423T003520
CREATED:20260123T193047Z
LAST-MODIFIED:20260123T193047Z
UID:10000084-1771632000-1771804799@geekagenda.nl
SUMMARY:Europe Collectors Festival 2026
DESCRIPTION:DE GROOTSTE SHOW VAN EUROPA \nOnvergetelijke dagen vol ruilen\, showcases en pure beleving. Ontdek enorme hallen gevuld met internationale vendors\, zeldzame kaarten\, exclusieve merchandise\, graded showcases\, een trade night en levendige community-zones. \nHet ultieme festival voor verzamelaars\, spelers en fans van over de hele wereld. Maak je klaar voor een volledige dag vol trading\, collecting\, gaming en het ontmoeten van je favoriete creators en exposanten.\nOp Europe Collect-A-Fest ontdek je alles van Pokémon\, One Piece\, Disney Lorcana\, Magic: The Gathering\, Yu-Gi-Oh en Dragon Ball tot retro toys\, comics\, plushies en exclusieve collectibles — allemaal samen op één bruisend\, internationaal evenement. \nVoeg toe aan favorieten
URL:https://geekagenda.nl/event/europe-collectors-festival/
LOCATION:Breepark Breda\, Bavelseparklaan\, Breda\, 4817ZX
CATEGORIES:Board & Cardgames
ATTACH;FMTTYPE=image/png:https://geekagenda.nl/wp-content/uploads/2026/01/ECF_Logo_FULL-COLOR_750px.png
END:VEVENT
BEGIN:VEVENT
DTSTART;VALUE=DATE:20260228
DTEND;VALUE=DATE:20260301
DTSTAMP:20260423T003520
CREATED:20260113T205522Z
LAST-MODIFIED:20260113T210851Z
UID:10000070-1772236800-1772323199@geekagenda.nl
SUMMARY:Spellenbeurs Alkmaar 2026
DESCRIPTION:Ben je een liefhebber van bordspellen of nieuwsgierig naar wat deze wereld te bieden heeft? Spellenbeurs Alkmaar is dé plek waar je moet zijn! Dit jaarlijkse evenement op de eerste zaterdag van de voorjaarsvakantie biedt een kleurrijke mix van spellen voor alle leeftijden en interesses. Of je nu houdt van klassieke bordspellen of op zoek bent naar de nieuwste creatieve releases\, hier vind je het allemaal. \nWat kun jij verwachten?\nAls bezoeker van de beurs kun je genieten van: \nEen breed scala aan spellen: Van gezelschapsspellen tot strategische bordspellen\, kaartspellen en rollenspellen. Er is voor ieder wat wils!\nSpeluitleg en demonstraties: Leer nieuwe spellen spelen met hulp van ervaren standhouders en vrijwilligers. Perfect als je een nieuw spel wilt uitproberen.\nEen ontspannen sfeer: Met maximaal 400 bezoekers zorgt de beurs voor een ruime opzet zonder lange wachttijden\, waardoor jij optimaal kunt genieten.\nSpeciale zones: Zoals een kinderhoek voor families met jonge kinderen en 2e hands spellen voor koopjesjagers. Ideaal voor een dagje uit met het hele gezin.\nGezelligheid en sociale interactie: Ontmoet mede-spellenliefhebbers en speel samen de hele dag door. Maak nieuwe vrienden en deel je passie! \nVoeg toe aan favorieten
URL:https://geekagenda.nl/event/spellenbeurs-alkmaar/
LOCATION:Wijkcentrum Mare Nostrum\, Arubastraat 2\, Alkmaar\, 1825 PV\, Netherlands
CATEGORIES:Board & Cardgames
ATTACH;FMTTYPE=image/png:https://geekagenda.nl/wp-content/uploads/2026/01/cropped-Spellenbeurs_Logo_2026-2048x484-1.png
END:VEVENT
BEGIN:VEVENT
DTSTART;VALUE=DATE:20260314
DTEND;VALUE=DATE:20260316
DTSTAMP:20260423T003520
CREATED:20260113T210053Z
LAST-MODIFIED:20260113T210207Z
UID:10000071-1773446400-1773619199@geekagenda.nl
SUMMARY:Zuiderspel 2026
DESCRIPTION:Bezoek Zuiderspel\, dé voorjaars-spellenbeurs van de Benelux! \nRuim 5000m2 spelplezier op Zuiderspel!\nZuiderspel is een unieke kans om samen met familie en vrienden een dag lang te genieten van meer dan honderd nieuwe bord-\, kaart-\, dobbel- en andere gezelschapsspellen. Vele spellenuitgevers\, distributeurs\, winkels en verenigingen zullen met hun nieuwste spellen op Zuiderspel aanwezig zijn. Probeer de spellen uit tijdens deze gezellige beurs en profiteer van scherpe beursaanbiedingen bij de verkoopstands \nBring & Buy\nHeb je te veel spellen in de kast staan? Deze kan je te koop aanbieden in de Bring & Buy.\nHeb je te weinig spellen in de kast staan? Naast de verkoopstands kan je terecht bij de Bring & Buy stand.\nVoor meer informatie en alle spelregels voor de Bring & Buy\, bezoek dan de volgende pagina: www.zuiderspel.nl/bringandbuy \n\nVoeg toe aan favorieten
URL:https://geekagenda.nl/event/zuiderspel/
LOCATION:NH Koningshof\, Locht 117\, Veldhoven\, 5504RM
CATEGORIES:Board & Cardgames
ATTACH;FMTTYPE=image/jpeg:https://geekagenda.nl/wp-content/uploads/2026/01/Zuiderspel-2026-NL-scaled-1.jpg
END:VEVENT
BEGIN:VEVENT
DTSTART;TZID=Europe/Amsterdam:20260318T190000
DTEND;TZID=Europe/Amsterdam:20260318T230000
DTSTAMP:20260423T003520
CREATED:20260129T222624Z
LAST-MODIFIED:20260129T222624Z
UID:10000085-1773860400-1773874800@geekagenda.nl
SUMMARY:Competitie: Catan Alkmaar 2026
DESCRIPTION:Schrijf je in voor de gloednieuwe Catan-competitie van Alkmaar\, georganiseerd op een sfeervolle evenementenlocatie. Tijdens deze gezellige spelavond leer je nieuwe mensen kennen terwijl je het tegen elkaar opneemt in een fanatieke\, maar toegankelijke strijd om de overwinning. \nOf je nu één avond mee wilt doen of vaker terugkomt om mee te dingen naar een plek in het eindtoernooi: iedereen is welkom. Zowel ervaren Catan-spelers als nieuwkomers kunnen aansluiten voor een avond vol tactiek\, gezelligheid en gezonde competitie. \nDe competitie\nDe Catan-competitie bestaat uit meerdere speelavonden die verspreid zijn over het jaar. Elke avond telt mee voor de ranglijst. De best presterende spelers plaatsen zich uiteindelijk voor het eindtoernooi\, waarin via eliminatierondes wordt bepaald wie zich mag kronen tot de beste Catan-speler van de regio. \nWil jij de titel veroveren of gewoon een leuke avond Catan spelen in goed gezelschap? Meld je dan aan voor de eerste Catan-avond en doe mee. \nPraktische informatie\n– Inschrijflink: https://forms.gle/uSjXwt2bbN1bmmrk6 \n– Deelname is pas definitief na betaling \n– Er is plek voor maximaal 40 spelers \n– Vol is vol \n \nVoeg toe aan favorieten
URL:https://geekagenda.nl/event/competitie-catan-alkmaar-2026/
LOCATION:Stadsfabriek Alkmaar\, Marconistraat 5\, Alkmaar\, 1821 BX\, Netherlands
CATEGORIES:Board & Cardgames
ATTACH;FMTTYPE=image/png:https://geekagenda.nl/wp-content/uploads/2026/01/poster-header-scaled.png
END:VEVENT
BEGIN:VEVENT
DTSTART;VALUE=DATE:20260321
DTEND;VALUE=DATE:20260322
DTSTAMP:20260423T003520
CREATED:20260114T161220Z
LAST-MODIFIED:20260114T161248Z
UID:10000073-1774051200-1774137599@geekagenda.nl
SUMMARY:Ducosim Spellenbeurs Maart 2026
DESCRIPTION:Over de Ducosim spellenbeurzen valt veel te vertellen. Op een spellenbeurs kunnen zowel leden als niet-leden terecht voor zo’n beetje alles wat met spellen te maken heeft. \nWe organiseren toernooien\, demonstraties van de nieuwste spellen\, participatiespellen waaraan iedereen kan meedoen en andere activiteiten\, zoals een jaarlijkse bordspellenveiling tijdens de winterbeurs. \nVerder kun je terecht bij de verkoopstands\, waar een compleet spellenassortiment wordt aangeboden\, vaak met speciale beursaanbiedingen. Op de beurzen in Mei en September is er de Bring & Buy Stand\, waar je tweedehands spellen kunt (ver)kopen\, op de beurs in Januari de spellenveiling. \n\n\nDucosim is dé Nederlandse Spellenvereniging en heeft een rijke historie sinds de oprichting in 1976. Bijna 50 jaar later is Ducosim een vereniging voor liefhebbers van allerlei soorten spellen: bordspellen\, kaartspellen\, dobbelspellen\, miniature/wargames\, historische spellen\, rollenspellen\, verzamelspellen\, etc. Anno 2025 heeft Ducosim zo’n 900 leden. \nDe kans is groot dat je Ducosim kent van Ducosim beurzen\, aanwezigheid op grote(re) spellenbeurzen of van het spellenmagazine Spel! \nAlle activiteiten van Ducosim worden mogelijk gemaakt door de inzet van vrijwilligers. Van de mensen achter onze Bring & Buy stand\, de leden die de jaarlijkse veiling organiseren\, die (deelname aan) beurzen organiseren\, die het Ducosim demoteam aansturen of actief zijn in Ducosim commissies. Iedereen zet zich in voor Ducosim uit liefde voor spelletjes. \n\n\nVoeg toe aan favorieten
URL:https://geekagenda.nl/event/ducosim-spellenbeurs-maart/
LOCATION:De Flint\, Coninckstraat 60\, Amersfoort\, 3811 WK\, Netherlands
CATEGORIES:Board & Cardgames
ATTACH;FMTTYPE=image/png:https://geekagenda.nl/wp-content/uploads/2026/01/logo-1.png
END:VEVENT
BEGIN:VEVENT
DTSTART;VALUE=DATE:20260404
DTEND;VALUE=DATE:20260406
DTSTAMP:20260423T003520
CREATED:20251124T153548Z
LAST-MODIFIED:20251124T153611Z
UID:10000053-1775260800-1775433599@geekagenda.nl
SUMMARY:Collectable World Gorinchem 2026
DESCRIPTION:Op zaterdag 4 en zondag 5 april 2026 opent Collectable World Events de deuren van de Evenementenhal in Gorinchem voor een spectaculair weekend vol verzamelplezier.\nCollectable World Events is een groots evenement dat volledig in het teken staat van verzamelen. Met duizenden vierkante meters beursvloer en een breed aanbod aan unieke vondsten en zeldzame collectibles\, is dit dé plek waar liefhebbers samenkomen om te ruilen\, ontdekken en kopen. Of je nu een doorgewinterde verzamelaar bent of gewoon nieuwsgierig\, de sfeervolle beurs biedt voor ieder wat wils. \nMet een beursvloer van maar liefst 10.000 m² staat deze editie van Collectableworld garant voor twee dagen vol unieke vondsten\, zeldzame collectibles en een onvergetelijke sfeer. Of je nu komt om te ruilen\, ontdekken of kopen — dit is hét evenement waar het hart van iedere verzamelaar sneller van gaat kloppen. \n  \n\n\nVoeg toe aan favorieten
URL:https://geekagenda.nl/event/collectable-world-gorinchem-2026/
LOCATION:Evenementenhal Gorinchem\, Franklinweg 2\, Gorinchem\, 4207HZ\, Netherlands
CATEGORIES:Board & Cardgames
ATTACH;FMTTYPE=image/png:https://geekagenda.nl/wp-content/uploads/2025/11/collectable-world-events-logo-1.png
END:VEVENT
BEGIN:VEVENT
DTSTART;VALUE=DATE:20260411
DTEND;VALUE=DATE:20260412
DTSTAMP:20260423T003520
CREATED:20251012T181943Z
LAST-MODIFIED:20260114T162539Z
UID:10000016-1775865600-1775951999@geekagenda.nl
SUMMARY:Roll Initiative Con/RINCON 2026
DESCRIPTION:About RINCON \nRINCON is a feeling\, it is the passion for the story – the adventure. It is the realm of fantasy where everything is possible\, it is the feeling of freedom\, a blank canvas. It is solidarity\, teamwork\, friendship and the feeling of belonging. \nRINCON is the first fully TTRPG focused convention in the Netherlands and it is carried by a loving community. \nRINCON started as a wish\, a thought: ‘Why isn’t there a TTRPG convention in the Netherlands?’ From there fellow adventurers were found\, alliances were made\, knowledge that wanted to be shared was discovered and merchants far and wide came to show their wares. \nRINCON is organised by Ann de Leeuw\, who gets help from a small team of volunteers which they call loveingly the Knights of RINCON. Together we will bring our passion for TTRPGs to life at an epic one day only convention filled with workshops\, speakers\, live games\, vendors and artists. \nWill you be there? \nVoeg toe aan favorieten
URL:https://geekagenda.nl/event/roll-initiative-con-rincon/
LOCATION:MFA ’t Hart Ewijk\, Den Elt 17\, Ewijk\, Gelderland\, 6644EA\, Netherlands
CATEGORIES:Gaming
ATTACH;FMTTYPE=image/webp:https://geekagenda.nl/wp-content/uploads/2025/10/RINCON-logo-transparant-01.webp
ORGANIZER;CN="RedHead Games":MAILTO:Contact@rollinitiativecon.nl
END:VEVENT
BEGIN:VEVENT
DTSTART;VALUE=DATE:20260411
DTEND;VALUE=DATE:20260413
DTSTAMP:20260423T003520
CREATED:20251012T165636Z
LAST-MODIFIED:20260114T163409Z
UID:10000011-1775865600-1776038399@geekagenda.nl
SUMMARY:Facts 2026
DESCRIPTION:Watch movies\, series & gaming come to life in Belgium’s largest comic con festival and pop culture celebration! \n\n\n\n\nEscape reality and dive into the wonderful universe of FACTS\, Your Belgian Comic-Con! If you’re a fan of movies\, series\, video games\, board games\, cosplay\, superheroes\, anime\, and other pop culture phenomena\, then you won’t want to miss this two-day fandom festival. Curious to see what it’s like? Scroll down for an overview and watch last edition’s aftermovie! \nBeleef de sfeer op Facts\nKrijg alvast een indruk van het event met de aftermovie van een vorige editie! \n\n\n\nVoeg toe aan favorieten
URL:https://geekagenda.nl/event/facts/
LOCATION:Flanders Expo Ghent\, Maaltekouter 1\, Ghent\, Vlaanderen\, 9051\, Belgium
CATEGORIES:Popcultuur & Comic Cons
ATTACH;FMTTYPE=image/png:https://geekagenda.nl/wp-content/uploads/2025/10/logo-header-facts.png
END:VEVENT
END:VCALENDAR