BEGIN:VCALENDAR
VERSION:2.0
PRODID:-//GeekAgenda - ECPv6.15.18//NONSGML v1.0//EN
CALSCALE:GREGORIAN
METHOD:PUBLISH
X-WR-CALNAME:GeekAgenda
X-ORIGINAL-URL:https://geekagenda.nl
X-WR-CALDESC:Evenementen voor GeekAgenda
REFRESH-INTERVAL;VALUE=DURATION:PT1H
X-Robots-Tag:noindex
X-PUBLISHED-TTL:PT1H
BEGIN:VTIMEZONE
TZID:Europe/Amsterdam
BEGIN:DAYLIGHT
TZOFFSETFROM:+0100
TZOFFSETTO:+0200
TZNAME:CEST
DTSTART:20250330T010000
END:DAYLIGHT
BEGIN:STANDARD
TZOFFSETFROM:+0200
TZOFFSETTO:+0100
TZNAME:CET
DTSTART:20251026T010000
END:STANDARD
BEGIN:DAYLIGHT
TZOFFSETFROM:+0100
TZOFFSETTO:+0200
TZNAME:CEST
DTSTART:20260329T010000
END:DAYLIGHT
BEGIN:STANDARD
TZOFFSETFROM:+0200
TZOFFSETTO:+0100
TZNAME:CET
DTSTART:20261025T010000
END:STANDARD
BEGIN:DAYLIGHT
TZOFFSETFROM:+0100
TZOFFSETTO:+0200
TZNAME:CEST
DTSTART:20270328T010000
END:DAYLIGHT
BEGIN:STANDARD
TZOFFSETFROM:+0200
TZOFFSETTO:+0100
TZNAME:CET
DTSTART:20271031T010000
END:STANDARD
END:VTIMEZONE
BEGIN:VEVENT
DTSTART;VALUE=DATE:20260425
DTEND;VALUE=DATE:20260426
DTSTAMP:20260423T003613
CREATED:20260306T202849Z
LAST-MODIFIED:20260306T202849Z
UID:10000090-1777075200-1777161599@geekagenda.nl
SUMMARY:Con La Plaza 2026
DESCRIPTION:Con la Plaza is een plek waar popcultuur leeft\, waar fandoms samenkomen en waar je gewoon jezelf mag zijn. \nVan indrukwekkende cosplay en unieke collectibles tot games\, artiesten en spontane ontmoetingen\, hier draait het om delen wat je leuk vindt. Cosplay is geen show\, maar zelfexpressie. \nVoeg toe aan favorieten
URL:https://geekagenda.nl/event/con-la-plaza/
LOCATION:WTC Expo Leeuwarden\, Fryslânplein\, Leeuwarden\, Netherlands
CATEGORIES:Popcultuur & Comic Cons
ATTACH;FMTTYPE=image/png:https://geekagenda.nl/wp-content/uploads/2026/03/Con-la-plaza-logo.png
END:VEVENT
BEGIN:VEVENT
DTSTART;VALUE=DATE:20260502
DTEND;VALUE=DATE:20260504
DTSTAMP:20260423T003613
CREATED:20260322T123730Z
LAST-MODIFIED:20260322T123730Z
UID:10000093-1777680000-1777852799@geekagenda.nl
SUMMARY:Comic Con Brussels 2026
DESCRIPTION:COMIC CON BRUSSELS IS YOUR CELEBRATION OF GEEK CULTURE IN THE HEART OF EUROPE! \nYou will find us at the beautiful Tour & Taxis site near the Brussels North train station. At Comic Con Brussels you will find Dealers\, Artists\, Actors\, … It’s a Con that brings together all the things you love:\nCOMICS\, COSPLAY\, GAMING\, FILMS\, MANGA\, COLLECTIBLES\, ANIME\, TV SERIES\, CLOTHING\, TOYS\, GADGETS AND LOTS MORE!!! \nVoeg toe aan favorieten
URL:https://geekagenda.nl/event/comic-con-brussels/
LOCATION:tour & taxis\, Havenlaan 86C\, Brussel\, 1000\, Belgium
CATEGORIES:Popcultuur & Comic Cons
ATTACH;FMTTYPE=image/png:https://geekagenda.nl/wp-content/uploads/2026/03/ComicCon_logo-SMALL.png
END:VEVENT
BEGIN:VEVENT
DTSTART;VALUE=DATE:20260509
DTEND;VALUE=DATE:20260511
DTSTAMP:20260423T003613
CREATED:20251012T164039Z
LAST-MODIFIED:20260114T163715Z
UID:10000007-1778284800-1778457599@geekagenda.nl
SUMMARY:Comic Con Holland 2026
DESCRIPTION:Comic Con Holland is hét event in Nederland voor alle echte fans en liefhebbers van Comics\, Manga\, Cosplay\, Gaming\, Films\, Series\, Sci-Fi\, Fantasy en meer. \nOntsnap naar een magische wereld\, een ultieme Geek-ervaring met wereldbekende ster gasten om te ontmoeten en een enorme Geek Market om gezellig te shoppen; \nMaar tevens boeiende workshops\, Q&A’s en lezingen maar je kan er ook gewoon gamen en genieten van de vele wedstrijden en optredens. \nBovenal is het het uitgelezen moment om vrienden te maken en een gezellige dag te beleven met andere fans. \nKom op Nederland\, Get Your Geek On! \nBeleef de sfeer op Comic Con Holland\nKrijg alvast een indruk van het event met de aftermovie van een vorige editie! \n\n\nVoeg toe aan favorieten
URL:https://geekagenda.nl/event/comic-con-holland/
LOCATION:Expo Greater Amsterdam\, Stelling 1\, Vijfhuizen\, Noord-Holland\, 2141SB\, Netherlands
CATEGORIES:Popcultuur & Comic Cons
ATTACH;FMTTYPE=image/webp:https://geekagenda.nl/wp-content/uploads/2025/10/CCH_Logo_large-copy-uai-720x446-1.webp
END:VEVENT
BEGIN:VEVENT
DTSTART;VALUE=DATE:20260523
DTEND;VALUE=DATE:20260524
DTSTAMP:20260423T003613
CREATED:20260228T222724Z
LAST-MODIFIED:20260228T222724Z
UID:10000089-1779494400-1779580799@geekagenda.nl
SUMMARY:RED5 CON 2026
DESCRIPTION:Red5Con is hét ultieme Star Wars-event voor échte fans! Dit is dé plek waar liefhebbers van het Star Wars-universum samenkomen om hun passie te delen. Verwacht een dag vol unieke collectibles\, epische cosplay\, speciale gasten en exclusieve event-deals. \nVan indrukwekkende beursstands tot interactieve activiteiten en meet-and-greets met iconische personages – Red5Con brengt de Force tot leven! Mis deze onvergetelijke ervaring niet en duik in een sterrenstelsel vol avontuur. \nMay the Force be with you! \nVoeg toe aan favorieten
URL:https://geekagenda.nl/event/red5-con/
LOCATION:Pathé Utrecht Leidsche Rijn\, Berlijnplein 100\, Utrecht\, 3541 CM\, Netherlands
CATEGORIES:Popcultuur & Comic Cons
ATTACH;FMTTYPE=image/png:https://geekagenda.nl/wp-content/uploads/2026/02/image-911x240-1.png
END:VEVENT
BEGIN:VEVENT
DTSTART;VALUE=DATE:20260620
DTEND;VALUE=DATE:20260622
DTSTAMP:20260423T003613
CREATED:20251012T164546Z
LAST-MODIFIED:20260118T122957Z
UID:10000008-1781913600-1782086399@geekagenda.nl
SUMMARY:Heroes Dutch Comic Con 2026
DESCRIPTION:Altijd al wereldberoemde acteurs en Comic Artists willen ontmoeten of ben je fan van series\, films\, esports of Cosplay? Heroes Dutch Comic Con heeft het allemaal\, én meer! Bereid je voor op een geweldig weekend vol vermaak\, bijzondere ontmoetingen\, deel jouw passies met andere of maak nieuwe vrienden! \nBeleef de sfeer op Heroes Dutch Comic Con\nKrijg alvast een indruk van het event met de aftermovie van een vorige editie! \n\nVoeg toe aan favorieten
URL:https://geekagenda.nl/event/heroes-dutch-comic-con/
LOCATION:Jaarbeurs Utrecht\, Jaarbeursplein 15\, Utrecht\, Utrecht\, 3521AM
CATEGORIES:Popcultuur & Comic Cons
ATTACH;FMTTYPE=image/png:https://geekagenda.nl/wp-content/uploads/2025/10/DCC-logo.png
END:VEVENT
BEGIN:VEVENT
DTSTART;VALUE=DATE:20260920
DTEND;VALUE=DATE:20260921
DTSTAMP:20260423T003613
CREATED:20260221T125835Z
LAST-MODIFIED:20260228T222059Z
UID:10000087-1789862400-1789948799@geekagenda.nl
SUMMARY:Star Wars Vintage: Treasures from Tatooine
DESCRIPTION:Op zondag 20 september 2026 keert het Star Wars Vintage Evenement terug voor een nieuwe editie vol nostalgie\, verzamelplezier en galactische sfeer. \nTijdens dit evenement staat het originele Star Wars speelgoed uit de periode 1977 tot en met 1985 centraal. Denk aan klassieke Kenner-figuren\, voertuigen\, playsets en andere iconische items uit de beginjaren van de saga. Voor verzamelaars is dit dé kans om ontbrekende stukken aan hun collectie toe te voegen of gewoon heerlijk te neuzen tussen vintage parels. \nNaast het retro aanbod is er ook ruimte voor hedendaagse merchandise. Van moderne collectibles tot nieuwe releases\, er is voor iedere fan wat te vinden. \nDe sfeer wordt compleet gemaakt met Star Wars cosplay en passende aankleding. Verwacht kostuums\, herkenbare personages en een setting die je direct terugbrengt naar een sterrenstelsel hier ver\, ver vandaan. \nOf je nu een doorgewinterde verzamelaar bent\, fan van het eerste uur of gewoon houdt van alles wat met Star Wars te maken heeft\, dit evenement mag je niet missen. May the Force be with you. \nVoeg toe aan favorieten
URL:https://geekagenda.nl/event/star-wars-vintage/
LOCATION:Clubhuis De Schakel\, Burgemeester Bickerstraat 46-A\, Diemen\, 1111 GT\, Netherlands
CATEGORIES:Hobby & Creatief,Popcultuur & Comic Cons
ATTACH;FMTTYPE=image/jpeg:https://geekagenda.nl/wp-content/uploads/2026/02/Star-Wars-Vintage-Poster.jpg
END:VEVENT
BEGIN:VEVENT
DTSTART;VALUE=DATE:20261212
DTEND;VALUE=DATE:20261214
DTSTAMP:20260423T003613
CREATED:20260322T124658Z
LAST-MODIFIED:20260322T124658Z
UID:10000095-1797033600-1797206399@geekagenda.nl
SUMMARY:Comic Con Luxembourg 2026
DESCRIPTION:Comic Con Luxembourg is the event in Luxembourg for all true fans and enthusiasts of Comics\, Manga\, Cosplay\, Gaming\, Films\, Series\, Sci-Fi\, Fantasy and more. \nEscape to a magical world\, the ultimate Geek experience with world famous star guests to meet and a huge Geek Market to visit. \nBut also fascinating workshops\, Q&As and lectures\, but you can also just play games and enjoy the many competitions and performances. \nAbove all\, it is the perfect time to make friends and have a fun day with other fans. \nCome on Luxembourg\, Get Your Geek On! \nVoeg toe aan favorieten
URL:https://geekagenda.nl/event/comic-con-luxembourg/
LOCATION:Luxexpo\, 20 Rue Hugo Gernsback\, Kirchberg Luxemburg\, 1855\, Luxembourg
CATEGORIES:Popcultuur & Comic Cons
ATTACH;FMTTYPE=image/png:https://geekagenda.nl/wp-content/uploads/2026/03/CCL_Logo_small-uai-720x470-1.png
END:VEVENT
END:VCALENDAR