BEGIN:VCALENDAR
VERSION:2.0
PRODID:-//GeekAgenda - ECPv6.15.18//NONSGML v1.0//EN
CALSCALE:GREGORIAN
METHOD:PUBLISH
X-ORIGINAL-URL:https://geekagenda.nl
X-WR-CALDESC:Evenementen voor GeekAgenda
REFRESH-INTERVAL;VALUE=DURATION:PT1H
X-Robots-Tag:noindex
X-PUBLISHED-TTL:PT1H
BEGIN:VTIMEZONE
TZID:Europe/Amsterdam
BEGIN:DAYLIGHT
TZOFFSETFROM:+0100
TZOFFSETTO:+0200
TZNAME:CEST
DTSTART:20250330T010000
END:DAYLIGHT
BEGIN:STANDARD
TZOFFSETFROM:+0200
TZOFFSETTO:+0100
TZNAME:CET
DTSTART:20251026T010000
END:STANDARD
BEGIN:DAYLIGHT
TZOFFSETFROM:+0100
TZOFFSETTO:+0200
TZNAME:CEST
DTSTART:20260329T010000
END:DAYLIGHT
BEGIN:STANDARD
TZOFFSETFROM:+0200
TZOFFSETTO:+0100
TZNAME:CET
DTSTART:20261025T010000
END:STANDARD
BEGIN:DAYLIGHT
TZOFFSETFROM:+0100
TZOFFSETTO:+0200
TZNAME:CEST
DTSTART:20270328T010000
END:DAYLIGHT
BEGIN:STANDARD
TZOFFSETFROM:+0200
TZOFFSETTO:+0100
TZNAME:CET
DTSTART:20271031T010000
END:STANDARD
END:VTIMEZONE
BEGIN:VEVENT
DTSTART;VALUE=DATE:20260118
DTEND;VALUE=DATE:20260119
DTSTAMP:20260423T035004
CREATED:20260101T170039Z
LAST-MODIFIED:20260101T170039Z
UID:10000061-1768694400-1768780799@geekagenda.nl
SUMMARY:Con-Con 2026
DESCRIPTION:Wat kan je op de Con-Con beurs allemaal verwachten? \n💰 Handel & Verkoop \nWinkels & verkopers – Standhouders met grote collecties en exclusieve aanbiedingen.\nRuiltafels – Speciale zones om kaarten te ruilen.\nGraded kaarten – PSA\, Beckett en CGC graded kaarten voor verzamelaars. \n🔥 TCG en andere collectibles \nLosse kaarten – Van commons tot extreem zeldzame en dure kaarten. Sealed producten – Boosters\, starter decks\, elite trainer boxes\, en andere ongeopende sets.\nPromokaarten – Exclusieve promo’s bij toegang of bepaalde aankopen.\nAccessoires – Sleeves\, playmats\, deckboxen\, binders en dobbelstenen.\nVintage games – van Nintendo\, Sega tot Atari.\nToys from the past & future – He-Man\, turtles en veel meer! \n🏆 Gameplay \nCasual play – Tafels waar je vrij kunt spelen en ruilen. Drafts & sealed events – Je opent packs en bouwt een deck ter plekke. \n🎨 Extra’s & Entertainment \nSpeciale gasten – TCG-artists\, professionele spelers of influencers.\nCosplay – Mensen verkleed als hun favoriete personages uit TCG’s of anime.\nGiveaways & loterijen – Kans om zeldzame kaarten of vintage games te winnen.
URL:https://geekagenda.nl/event/con-con/
LOCATION:Opera Zalencentrum\, Fruitweg 28-34\, Den Haag\, 2525KH\, Netherlands
CATEGORIES:Board & Cardgames
ATTACH;FMTTYPE=image/jpeg:https://geekagenda.nl/wp-content/uploads/2026/01/ConCon_Banner.jpg
END:VEVENT
END:VCALENDAR