BEGIN:VCALENDAR
VERSION:2.0
PRODID:-//GeekAgenda - ECPv6.15.18//NONSGML v1.0//EN
CALSCALE:GREGORIAN
METHOD:PUBLISH
X-ORIGINAL-URL:https://geekagenda.nl
X-WR-CALDESC:Evenementen voor GeekAgenda
REFRESH-INTERVAL;VALUE=DURATION:PT1H
X-Robots-Tag:noindex
X-PUBLISHED-TTL:PT1H
BEGIN:VTIMEZONE
TZID:Europe/Amsterdam
BEGIN:DAYLIGHT
TZOFFSETFROM:+0100
TZOFFSETTO:+0200
TZNAME:CEST
DTSTART:20250330T010000
END:DAYLIGHT
BEGIN:STANDARD
TZOFFSETFROM:+0200
TZOFFSETTO:+0100
TZNAME:CET
DTSTART:20251026T010000
END:STANDARD
BEGIN:DAYLIGHT
TZOFFSETFROM:+0100
TZOFFSETTO:+0200
TZNAME:CEST
DTSTART:20260329T010000
END:DAYLIGHT
BEGIN:STANDARD
TZOFFSETFROM:+0200
TZOFFSETTO:+0100
TZNAME:CET
DTSTART:20261025T010000
END:STANDARD
BEGIN:DAYLIGHT
TZOFFSETFROM:+0100
TZOFFSETTO:+0200
TZNAME:CEST
DTSTART:20270328T010000
END:DAYLIGHT
BEGIN:STANDARD
TZOFFSETFROM:+0200
TZOFFSETTO:+0100
TZNAME:CET
DTSTART:20271031T010000
END:STANDARD
END:VTIMEZONE
BEGIN:VEVENT
DTSTART;VALUE=DATE:20260731
DTEND;VALUE=DATE:20260803
DTSTAMP:20260423T003509
CREATED:20260118T123757Z
LAST-MODIFIED:20260118T123757Z
UID:10000082-1785456000-1785715199@geekagenda.nl
SUMMARY:Mysticon 2026
DESCRIPTION:MYSTICON\, hét outdoor spellenfestival van België! Duik in een wereld vol bordspellen\, workshops en optredens. Geniet van de sfeer bij onze zomerbar en maak je ervaring compleet met een overnachting op de festivalcamping.
URL:https://geekagenda.nl/event/mysticon/
LOCATION:Mysticon\, Turkestraat 1\, Kruisem\, 9771\, Belgium
CATEGORIES:Board & Cardgames
ATTACH;FMTTYPE=image/png:https://geekagenda.nl/wp-content/uploads/2026/01/581032824_122177008124580270_1631148208085422417_n.png
END:VEVENT
END:VCALENDAR