BEGIN:VCALENDAR
VERSION:2.0
PRODID:-//GeekAgenda - ECPv6.15.18//NONSGML v1.0//EN
CALSCALE:GREGORIAN
METHOD:PUBLISH
X-ORIGINAL-URL:https://geekagenda.nl
X-WR-CALDESC:Evenementen voor GeekAgenda
REFRESH-INTERVAL;VALUE=DURATION:PT1H
X-Robots-Tag:noindex
X-PUBLISHED-TTL:PT1H
BEGIN:VTIMEZONE
TZID:Europe/Amsterdam
BEGIN:DAYLIGHT
TZOFFSETFROM:+0100
TZOFFSETTO:+0200
TZNAME:CEST
DTSTART:20250330T010000
END:DAYLIGHT
BEGIN:STANDARD
TZOFFSETFROM:+0200
TZOFFSETTO:+0100
TZNAME:CET
DTSTART:20251026T010000
END:STANDARD
BEGIN:DAYLIGHT
TZOFFSETFROM:+0100
TZOFFSETTO:+0200
TZNAME:CEST
DTSTART:20260329T010000
END:DAYLIGHT
BEGIN:STANDARD
TZOFFSETFROM:+0200
TZOFFSETTO:+0100
TZNAME:CET
DTSTART:20261025T010000
END:STANDARD
BEGIN:DAYLIGHT
TZOFFSETFROM:+0100
TZOFFSETTO:+0200
TZNAME:CEST
DTSTART:20270328T010000
END:DAYLIGHT
BEGIN:STANDARD
TZOFFSETFROM:+0200
TZOFFSETTO:+0100
TZNAME:CET
DTSTART:20271031T010000
END:STANDARD
END:VTIMEZONE
BEGIN:VEVENT
DTSTART;VALUE=DATE:20260403
DTEND;VALUE=DATE:20260406
DTSTAMP:20260423T003018
CREATED:20260114T162042Z
LAST-MODIFIED:20260114T162042Z
UID:10000074-1775174400-1775433599@geekagenda.nl
SUMMARY:Trolls & Legenden 2026
DESCRIPTION:Wanneer de duisternis plaatsmaakt voor de glans\, opent Trolls & Légendes van 3 tot 5 april 2026 in Mons een portal naar vergeten werelden. Acteurs van fantasiefilms\, Boeken\, Stripboeken en Manga doordrenkt met magie\, epische liederen\, rollenspellen\, betoverend handwerk\, verhalen en shows — elke hoek herbergt een betovering. \nReizigers\, dromers en nieuwsgierigen: stap over de drempel. Laat je meevoeren door oude verhalen\, muziek met mystieke accenten\, geïnspireerde handgemaakte creaties en werelden getekend met de inkt van het fantastische. Tussen licht en schaduw\, volg de gloed van de legendes\, van de taverne naar de toren van de tovenaars\, van het oude perkament naar het kostuumfeest.
URL:https://geekagenda.nl/event/trolls-legenden/
LOCATION:Lotto Mons Expo\, Avenue Abel Dubois\, Mons\, 7000\, Belgium
CATEGORIES:Fantasy & Middeleeuwen
END:VEVENT
END:VCALENDAR