BEGIN:VCALENDAR
VERSION:2.0
PRODID:-//GeekAgenda - ECPv6.15.18//NONSGML v1.0//EN
CALSCALE:GREGORIAN
METHOD:PUBLISH
X-WR-CALNAME:GeekAgenda
X-ORIGINAL-URL:https://geekagenda.nl
X-WR-CALDESC:Evenementen voor GeekAgenda
REFRESH-INTERVAL;VALUE=DURATION:PT1H
X-Robots-Tag:noindex
X-PUBLISHED-TTL:PT1H
BEGIN:VTIMEZONE
TZID:Europe/Amsterdam
BEGIN:DAYLIGHT
TZOFFSETFROM:+0100
TZOFFSETTO:+0200
TZNAME:CEST
DTSTART:20250330T010000
END:DAYLIGHT
BEGIN:STANDARD
TZOFFSETFROM:+0200
TZOFFSETTO:+0100
TZNAME:CET
DTSTART:20251026T010000
END:STANDARD
BEGIN:DAYLIGHT
TZOFFSETFROM:+0100
TZOFFSETTO:+0200
TZNAME:CEST
DTSTART:20260329T010000
END:DAYLIGHT
BEGIN:STANDARD
TZOFFSETFROM:+0200
TZOFFSETTO:+0100
TZNAME:CET
DTSTART:20261025T010000
END:STANDARD
BEGIN:DAYLIGHT
TZOFFSETFROM:+0100
TZOFFSETTO:+0200
TZNAME:CEST
DTSTART:20270328T010000
END:DAYLIGHT
BEGIN:STANDARD
TZOFFSETFROM:+0200
TZOFFSETTO:+0100
TZNAME:CET
DTSTART:20271031T010000
END:STANDARD
END:VTIMEZONE
BEGIN:VEVENT
DTSTART;VALUE=DATE:20260502
DTEND;VALUE=DATE:20260504
DTSTAMP:20260423T003509
CREATED:20251124T154402Z
LAST-MODIFIED:20251124T154402Z
UID:10000055-1777680000-1777852799@geekagenda.nl
SUMMARY:TCG Paradise 2026
DESCRIPTION:De grootste TCG Beurs van Nederland! \nStap in de magische wereld van Trading Card Games\, waar verzamelen\, battlen en avontuur samenkomen! \nVerzamelen\n14.000 m2 beursvloer vol met exclusieve kaarten\, vintage collectibles en de nieuwste releases. Met 70+ standhouders is er voor ieder wat wils. \nBattlen\nDaag je vrienden uit of ontmoet nieuwe tegenstanders en laat je skills zien! Doe mee aan competitieve toernooien in TCG’s en videogames of speel gewoon een casual potje voor de fun. Of je nu komt om te winnen of gewoon te genieten\, er is altijd een plek voor jou aan tafel. \nAvontuur\nGa met jouw vrienden op avontuur en ontdek de TCG-wereld vol unieke activiteiten\, speciale gasten\, demo’s\, Q&A’s en nog veel meer. Ontmoet jouw idolen\, maak nieuwe vrienden\, en beleef een onvergetelijke dag
URL:https://geekagenda.nl/event/tcg-paradise-2026/
LOCATION:Jaarbeurs Utrecht\, Jaarbeursplein 15\, Utrecht\, Utrecht\, 3521AM
CATEGORIES:Board & Cardgames
ATTACH;FMTTYPE=image/png:https://geekagenda.nl/wp-content/uploads/2025/11/Screenshot-2025-11-24-164310.png
END:VEVENT
BEGIN:VEVENT
DTSTART;VALUE=DATE:20260620
DTEND;VALUE=DATE:20260622
DTSTAMP:20260423T003509
CREATED:20251012T164546Z
LAST-MODIFIED:20260118T122957Z
UID:10000008-1781913600-1782086399@geekagenda.nl
SUMMARY:Heroes Dutch Comic Con 2026
DESCRIPTION:Altijd al wereldberoemde acteurs en Comic Artists willen ontmoeten of ben je fan van series\, films\, esports of Cosplay? Heroes Dutch Comic Con heeft het allemaal\, én meer! Bereid je voor op een geweldig weekend vol vermaak\, bijzondere ontmoetingen\, deel jouw passies met andere of maak nieuwe vrienden! \nBeleef de sfeer op Heroes Dutch Comic Con\nKrijg alvast een indruk van het event met de aftermovie van een vorige editie!
URL:https://geekagenda.nl/event/heroes-dutch-comic-con/
LOCATION:Jaarbeurs Utrecht\, Jaarbeursplein 15\, Utrecht\, Utrecht\, 3521AM
CATEGORIES:Popcultuur & Comic Cons
ATTACH;FMTTYPE=image/png:https://geekagenda.nl/wp-content/uploads/2025/10/DCC-logo.png
END:VEVENT
END:VCALENDAR