BEGIN:VCALENDAR
VERSION:2.0
PRODID:-//GeekAgenda - ECPv6.15.18//NONSGML v1.0//EN
CALSCALE:GREGORIAN
METHOD:PUBLISH
X-WR-CALNAME:GeekAgenda
X-ORIGINAL-URL:https://geekagenda.nl
X-WR-CALDESC:Evenementen voor GeekAgenda
REFRESH-INTERVAL;VALUE=DURATION:PT1H
X-Robots-Tag:noindex
X-PUBLISHED-TTL:PT1H
BEGIN:VTIMEZONE
TZID:Europe/Amsterdam
BEGIN:DAYLIGHT
TZOFFSETFROM:+0100
TZOFFSETTO:+0200
TZNAME:CEST
DTSTART:20250330T010000
END:DAYLIGHT
BEGIN:STANDARD
TZOFFSETFROM:+0200
TZOFFSETTO:+0100
TZNAME:CET
DTSTART:20251026T010000
END:STANDARD
BEGIN:DAYLIGHT
TZOFFSETFROM:+0100
TZOFFSETTO:+0200
TZNAME:CEST
DTSTART:20260329T010000
END:DAYLIGHT
BEGIN:STANDARD
TZOFFSETFROM:+0200
TZOFFSETTO:+0100
TZNAME:CET
DTSTART:20261025T010000
END:STANDARD
BEGIN:DAYLIGHT
TZOFFSETFROM:+0100
TZOFFSETTO:+0200
TZNAME:CEST
DTSTART:20270328T010000
END:DAYLIGHT
BEGIN:STANDARD
TZOFFSETFROM:+0200
TZOFFSETTO:+0100
TZNAME:CET
DTSTART:20271031T010000
END:STANDARD
END:VTIMEZONE
BEGIN:VEVENT
DTSTART;VALUE=DATE:20260307
DTEND;VALUE=DATE:20260309
DTSTAMP:20260423T020131
CREATED:20251012T193347Z
LAST-MODIFIED:20260111T150317Z
UID:10000028-1772841600-1773014399@geekagenda.nl
SUMMARY:Fantasy Markt Midden Nederland
DESCRIPTION:Midden-Nederland was er duidelijk een behoefte aan een Fantasymarkt. Bepstyle en de Oranjevereniging hebben de handen ineengeslagen en een fantastisch concept neergezet: “Fantasymarkt Midden Nederland”. De eerste editie in 2022 was een doorslaand succes\, vandaar dat is besloten deze Fantasymarkt een permanent karakter te geven. We hopen in 202 deze markt op de nieuwe locatie in Voorthuizen te kunnen organiseren. \nFantasy is het thema van deze markt\, dus de kramen hebben allemaal een fantasievolle uitstraling. En niet alleen de kramen\, ook de handelaren\, de entertainers en veel van onze bezoekers trekken hun fantastische Fantasykleding voor deze markt aan. \nEr zijn niet alleen handelaren die een breed scala aan producten verkopen\, maar ook auteurs van fantasyboeken\, entertainers en niet te vergeten muzikanten. \nWe willen iedereen laten kennismaken met de fantasywereld en zeker voor de KIDS hebben we flink uitgepakt. Dit wil je niet missen!
URL:https://geekagenda.nl/event/fantasy-markt-midden-nederland/
LOCATION:Het Trefpunt\, Roelenengweg 27\, Voorthuizen\, 3781BA\, Netherlands
CATEGORIES:Fantasy & Middeleeuwen
ATTACH;FMTTYPE=image/svg+xml:https://geekagenda.nl/wp-content/uploads/2025/10/Draakje-vector-uitgesneden-v3-1.svg
END:VEVENT
END:VCALENDAR