BEGIN:VCALENDAR
VERSION:2.0
PRODID:-//GeekAgenda - ECPv6.15.18//NONSGML v1.0//EN
CALSCALE:GREGORIAN
METHOD:PUBLISH
X-WR-CALNAME:GeekAgenda
X-ORIGINAL-URL:https://geekagenda.nl
X-WR-CALDESC:Evenementen voor GeekAgenda
REFRESH-INTERVAL;VALUE=DURATION:PT1H
X-Robots-Tag:noindex
X-PUBLISHED-TTL:PT1H
BEGIN:VTIMEZONE
TZID:Europe/Amsterdam
BEGIN:DAYLIGHT
TZOFFSETFROM:+0100
TZOFFSETTO:+0200
TZNAME:CEST
DTSTART:20250330T010000
END:DAYLIGHT
BEGIN:STANDARD
TZOFFSETFROM:+0200
TZOFFSETTO:+0100
TZNAME:CET
DTSTART:20251026T010000
END:STANDARD
BEGIN:DAYLIGHT
TZOFFSETFROM:+0100
TZOFFSETTO:+0200
TZNAME:CEST
DTSTART:20260329T010000
END:DAYLIGHT
BEGIN:STANDARD
TZOFFSETFROM:+0200
TZOFFSETTO:+0100
TZNAME:CET
DTSTART:20261025T010000
END:STANDARD
BEGIN:DAYLIGHT
TZOFFSETFROM:+0100
TZOFFSETTO:+0200
TZNAME:CEST
DTSTART:20270328T010000
END:DAYLIGHT
BEGIN:STANDARD
TZOFFSETFROM:+0200
TZOFFSETTO:+0100
TZNAME:CET
DTSTART:20271031T010000
END:STANDARD
END:VTIMEZONE
BEGIN:VEVENT
DTSTART;VALUE=DATE:20260124
DTEND;VALUE=DATE:20260126
DTSTAMP:20260423T033715
CREATED:20260113T102107Z
LAST-MODIFIED:20260113T102107Z
UID:10000066-1769212800-1769385599@geekagenda.nl
SUMMARY:Global Card Show 2026
DESCRIPTION:De Global Card Show is ontstaan uit een samenwerking tussen Global Grading/Global CardShop en TCG Fanz & Collectibles. \nBij de Global Card Show staat de diversiteit van verschillende trading card games centraal. Ons doel is om een uniek evenement neer te zetten waar verzamelaars\, spelers én verkopers naar uitkijken! \nWelke Trading Card Games vindt je allemaal? \n– Pokémon \n– One Piece \n– Yu-Gi-Oh! \n– Lorcana \n– Sportkaarten \n– Magic: The Gathering \nEn dat is nog lang niet alles! Naast TCG’s kun je bij ons ook terecht voor Funko Pops\, (exclusieve) knuffels\, mystery items en nog veel meer. Er is voor iedere verzamelaar wat te ontdekken! \n 
URL:https://geekagenda.nl/event/global-card-show/
LOCATION:Hart van Holland\, Berencamperweg 12\, Nijkerk\, 3861MC\, Netherlands
CATEGORIES:Board & Cardgames
ATTACH;FMTTYPE=image/png:https://geekagenda.nl/wp-content/uploads/2026/01/Global-Card-Show-logo-1.png
END:VEVENT
END:VCALENDAR