BEGIN:VCALENDAR
VERSION:2.0
PRODID:-//GeekAgenda - ECPv6.15.18//NONSGML v1.0//EN
CALSCALE:GREGORIAN
METHOD:PUBLISH
X-ORIGINAL-URL:https://geekagenda.nl
X-WR-CALDESC:Evenementen voor GeekAgenda
REFRESH-INTERVAL;VALUE=DURATION:PT1H
X-Robots-Tag:noindex
X-PUBLISHED-TTL:PT1H
BEGIN:VTIMEZONE
TZID:Europe/Amsterdam
BEGIN:DAYLIGHT
TZOFFSETFROM:+0100
TZOFFSETTO:+0200
TZNAME:CEST
DTSTART:20250330T010000
END:DAYLIGHT
BEGIN:STANDARD
TZOFFSETFROM:+0200
TZOFFSETTO:+0100
TZNAME:CET
DTSTART:20251026T010000
END:STANDARD
BEGIN:DAYLIGHT
TZOFFSETFROM:+0100
TZOFFSETTO:+0200
TZNAME:CEST
DTSTART:20260329T010000
END:DAYLIGHT
BEGIN:STANDARD
TZOFFSETFROM:+0200
TZOFFSETTO:+0100
TZNAME:CET
DTSTART:20261025T010000
END:STANDARD
BEGIN:DAYLIGHT
TZOFFSETFROM:+0100
TZOFFSETTO:+0200
TZNAME:CEST
DTSTART:20270328T010000
END:DAYLIGHT
BEGIN:STANDARD
TZOFFSETFROM:+0200
TZOFFSETTO:+0100
TZNAME:CET
DTSTART:20271031T010000
END:STANDARD
END:VTIMEZONE
BEGIN:VEVENT
DTSTART;VALUE=DATE:20260215
DTEND;VALUE=DATE:20260216
DTSTAMP:20260423T034836
CREATED:20260102T112656Z
LAST-MODIFIED:20260102T112656Z
UID:10000062-1771113600-1771199999@geekagenda.nl
SUMMARY:Cardz Zutphen 2026
DESCRIPTION:Op zondag 15 februari 2026 wordt de Hanzehal Zutphen opnieuw omgetoverd tot één van de grootste en leukste trading card events van Nederland. En\, dit keer wordt het nóg groter\, nóg beter\, en nóg leuker dan de vorige keer\, met meer dan 300 kramen met ruil- en verzamelkaartjes voor elk budget en elke leeftijd. Je kunt hier niet alleen zeldzame kaartjes kopen\, maar ook verkopen of ruilen met andere verzamelaars. \nWat kun je verwachten: \n* 4.000 m2 en 300+ stands met o.a. Pokémon\, Lorcana\, Magic The Gathering\, One Piece\, en sportkaarten \n* Inkoop\, verkoop en ruil \n* Meet & Greet met illustrators \n* Een gave Game Area \n* Veel leuke winacties en giveaways \n* En voor de kleintjes een leuke Kids Corner. \n* Daarnaast kun je gratis parkeren en er is horeca aanwezig. \nIn de komende maanden volgen nog veel meer aankondigingen\, dus houd de website en socials in de gaten!
URL:https://geekagenda.nl/event/cardz-zutphen/
LOCATION:Hanzehal\, Fanny Blankers-Koenweg 2\, Zutphen\, 7203AA\, Netherlands
CATEGORIES:Board & Cardgames
ATTACH;FMTTYPE=image/png:https://geekagenda.nl/wp-content/uploads/2026/01/logo.png
END:VEVENT
END:VCALENDAR