BEGIN:VCALENDAR
VERSION:2.0
PRODID:-//GeekAgenda - ECPv6.15.18//NONSGML v1.0//EN
CALSCALE:GREGORIAN
METHOD:PUBLISH
X-WR-CALNAME:GeekAgenda
X-ORIGINAL-URL:https://geekagenda.nl
X-WR-CALDESC:Evenementen voor GeekAgenda
REFRESH-INTERVAL;VALUE=DURATION:PT1H
X-Robots-Tag:noindex
X-PUBLISHED-TTL:PT1H
BEGIN:VTIMEZONE
TZID:Europe/Amsterdam
BEGIN:DAYLIGHT
TZOFFSETFROM:+0100
TZOFFSETTO:+0200
TZNAME:CEST
DTSTART:20240331T010000
END:DAYLIGHT
BEGIN:STANDARD
TZOFFSETFROM:+0200
TZOFFSETTO:+0100
TZNAME:CET
DTSTART:20241027T010000
END:STANDARD
BEGIN:DAYLIGHT
TZOFFSETFROM:+0100
TZOFFSETTO:+0200
TZNAME:CEST
DTSTART:20250330T010000
END:DAYLIGHT
BEGIN:STANDARD
TZOFFSETFROM:+0200
TZOFFSETTO:+0100
TZNAME:CET
DTSTART:20251026T010000
END:STANDARD
BEGIN:DAYLIGHT
TZOFFSETFROM:+0100
TZOFFSETTO:+0200
TZNAME:CEST
DTSTART:20260329T010000
END:DAYLIGHT
BEGIN:STANDARD
TZOFFSETFROM:+0200
TZOFFSETTO:+0100
TZNAME:CET
DTSTART:20261025T010000
END:STANDARD
END:VTIMEZONE
BEGIN:VEVENT
DTSTART;VALUE=DATE:20251228
DTEND;VALUE=DATE:20251229
DTSTAMP:20260423T021019
CREATED:20251013T203600Z
LAST-MODIFIED:20251029T181940Z
UID:10000040-1766880000-1766966399@geekagenda.nl
SUMMARY:AllyCon Fantasy 2025
DESCRIPTION:Op 28 december opent de bibliotheek haar poorten naar een wereld vol magie\, avontuur en fantasie. AllyCon Fantasy is hét betoverende winterevent waar dromen werkelijkheid worden en verhalen tot leven komen. Laat je meeslepen door een dag vol wonderen\, waar elfen dansen\, tovenaars spreuken fluisteren en draken je verbeelding doen vliegen! \nDe toegang tot AllyCon Fantasy op zaterdag 28 december is gratis. Er zijn de hele dag activiteiten voor jong en oud\, iedereen is welkom! De meeste activiteiten zijn gratis\, maar niet allemaal. Kijk dus goed bij de activiteiten van jouw keuze of je een ticket moet reserveren of kopen. Zo kom je niet voor een verrassing te staan.
URL:https://geekagenda.nl/event/allycon-fantasy-2025/
LOCATION:De Nieuwe Bibliotheek\, Stadhuisplein 101\, Almere\, 1315HS
CATEGORIES:Fantasy & Middeleeuwen
ATTACH;FMTTYPE=image/png:https://geekagenda.nl/wp-content/uploads/2025/10/allycon-2024-vierkant.png
END:VEVENT
END:VCALENDAR