BEGIN:VCALENDAR
VERSION:2.0
PRODID:-//GeekAgenda - ECPv6.15.18//NONSGML v1.0//EN
CALSCALE:GREGORIAN
METHOD:PUBLISH
X-WR-CALNAME:GeekAgenda
X-ORIGINAL-URL:https://geekagenda.nl
X-WR-CALDESC:Evenementen voor GeekAgenda
REFRESH-INTERVAL;VALUE=DURATION:PT1H
X-Robots-Tag:noindex
X-PUBLISHED-TTL:PT1H
BEGIN:VTIMEZONE
TZID:Europe/Amsterdam
BEGIN:DAYLIGHT
TZOFFSETFROM:+0100
TZOFFSETTO:+0200
TZNAME:CEST
DTSTART:20250330T010000
END:DAYLIGHT
BEGIN:STANDARD
TZOFFSETFROM:+0200
TZOFFSETTO:+0100
TZNAME:CET
DTSTART:20251026T010000
END:STANDARD
BEGIN:DAYLIGHT
TZOFFSETFROM:+0100
TZOFFSETTO:+0200
TZNAME:CEST
DTSTART:20260329T010000
END:DAYLIGHT
BEGIN:STANDARD
TZOFFSETFROM:+0200
TZOFFSETTO:+0100
TZNAME:CET
DTSTART:20261025T010000
END:STANDARD
BEGIN:DAYLIGHT
TZOFFSETFROM:+0100
TZOFFSETTO:+0200
TZNAME:CEST
DTSTART:20270328T010000
END:DAYLIGHT
BEGIN:STANDARD
TZOFFSETFROM:+0200
TZOFFSETTO:+0100
TZNAME:CET
DTSTART:20271031T010000
END:STANDARD
END:VTIMEZONE
BEGIN:VEVENT
DTSTART;VALUE=DATE:20260828
DTEND;VALUE=DATE:20260831
DTSTAMP:20260422T214203
CREATED:20251012T183039Z
LAST-MODIFIED:20251117T113433Z
UID:10000018-1787875200-1788134399@geekagenda.nl
SUMMARY:Viencon 2026
DESCRIPTION:Deze conventie\, die plaatsvindt in een Center Parcs\, is een ideale plek voor fans van anime\, cosplay en fotografie. Stel je een ruimte voor waar bezoekers zich volledig kunnen onderdompelen in hun passies zonder angst voor oordeel\, omringd door een gemeenschap van gelijkgestemden. \nDe prachtige omgeving van Center Parcs biedt diverse schilderachtige plekken die perfect zijn voor cosplayfotoshoots\, waaronder een prachtig zwembadgedeelte dat een unieke achtergrond biedt voor creatieve fotografie. Het evenement biedt diverse activiteiten\, zoals bierproeverijen voor volwassenen\, waarbij ze kunnen genieten van ambachtelijke bieren terwijl ze zich mengen met andere aanwezigen. \nDe Ducky Yard Sale stelt fans in staat anime-merchandise\, verzamelobjecten en kostuums te kopen of te verkopen. \nHet low-budget cosplay-evenement is perfect voor wie creativiteit wil laten zien. Een matsuri met traditionele Japanse festivalelementen\, waardoor bezoekers leuke spelletjes en culturele activiteiten kunnen ervaren. \n\nAls de nacht valt\, biedt het late feest de kans om te ontspannen\, te dansen en in een ontspannen sfeer contact te maken met anderen. Je kunt je terugtrekken in je ruime cottages\, de BBQ aansteken met vrienden en ontspannen van de dag. \nHet hele park bruist van mede-“weebs” die dezelfde interesse hebben\, wat zorgt voor een vriendelijke en relaxte sfeer die het als een echte feestdag doet voelen. Samengevat is Viençon niet zomaar een conventie; Het is een verkwikkende ontsnapping vol leuke activiteiten\, creatieve expressie en de vreugde van het verbinden met anderen die jouw passies delen.
URL:https://geekagenda.nl/event/viencon-2026/
LOCATION:Center Parcs Limburgse Peel\, Peelheideweg 25\, America\, Limburg\, 5966PJ\, Netherlands
CATEGORIES:Anime & Aziatisch
ATTACH;FMTTYPE=image/webp:https://geekagenda.nl/wp-content/uploads/2025/10/Viencon_logo_white_borders.webp
END:VEVENT
END:VCALENDAR