BEGIN:VCALENDAR
VERSION:2.0
PRODID:-//GeekAgenda - ECPv6.15.18//NONSGML v1.0//EN
CALSCALE:GREGORIAN
METHOD:PUBLISH
X-WR-CALNAME:GeekAgenda
X-ORIGINAL-URL:https://geekagenda.nl
X-WR-CALDESC:Evenementen voor GeekAgenda
REFRESH-INTERVAL;VALUE=DURATION:PT1H
X-Robots-Tag:noindex
X-PUBLISHED-TTL:PT1H
BEGIN:VTIMEZONE
TZID:Europe/Amsterdam
BEGIN:DAYLIGHT
TZOFFSETFROM:+0100
TZOFFSETTO:+0200
TZNAME:CEST
DTSTART:20240331T010000
END:DAYLIGHT
BEGIN:STANDARD
TZOFFSETFROM:+0200
TZOFFSETTO:+0100
TZNAME:CET
DTSTART:20241027T010000
END:STANDARD
BEGIN:DAYLIGHT
TZOFFSETFROM:+0100
TZOFFSETTO:+0200
TZNAME:CEST
DTSTART:20250330T010000
END:DAYLIGHT
BEGIN:STANDARD
TZOFFSETFROM:+0200
TZOFFSETTO:+0100
TZNAME:CET
DTSTART:20251026T010000
END:STANDARD
BEGIN:DAYLIGHT
TZOFFSETFROM:+0100
TZOFFSETTO:+0200
TZNAME:CEST
DTSTART:20260329T010000
END:DAYLIGHT
BEGIN:STANDARD
TZOFFSETFROM:+0200
TZOFFSETTO:+0100
TZNAME:CET
DTSTART:20261025T010000
END:STANDARD
END:VTIMEZONE
BEGIN:VEVENT
DTSTART;VALUE=DATE:20251206
DTEND;VALUE=DATE:20251208
DTSTAMP:20260423T003521
CREATED:20251012T203755Z
LAST-MODIFIED:20251029T181945Z
UID:10000029-1764979200-1765151999@geekagenda.nl
SUMMARY:Midwinter Fair Archeon
DESCRIPTION:Heel museumpark Archeon staat in het teken van de 21e Midwinter Fair\, het Winterse Fantasy festival van Nederland! \nWaan je in een magische wereld vol Heidense muziek\, unieke producten op de Fantasy markt en bijzondere acts. Vele gebruiken en tradities komen dit weekend tot leven\, zoals het Midwinter Ritueel. Allemaal rondom de viering van de wederkomst van het licht. \n\n\nAl in de steentijd werd deze periode op bijzondere wijze gevierd. In Ierland bevindt zich een neolithisch monument\, Newgrange\, dat zo geconstrueerd is\, dat de midwinter zonnewende voor een speciaal lichteffect zorgt. De Romeinen vierden rond deze tijd hun Saturnalia\, het feest ter ere van Saturnus\, waarbij meesters en slaven hun taak verruilden. De Germanen hielden uitzinnige Joelfeesten (Yule feesten) in de donkerste tijd van het jaar\, waarbij grote rituele vuren werden ontstoken en feest werd gevierd. \nDit is de dag\, ook wel de kortste dag\, van de winterzonnewende. Omstreeks 21 december vindt dit plaats op het  noordelijk halfrond. In het latijn Solstitium = zonnestilstand. De zon staat dan loodrecht boven een van de beide keerkringen. Wij vieren deze periode met veel muziek\, entertainment en prachtige rituelen. \n\n\n\nDe Midwinter Fair biedt drie overdekte locaties met muziek verspreid door het park! Zoals altijd kun je genieten van sfeervolle muziek in het Middeleeuwse Klooster en de Romeinse Herberg\, waar verschillende artiesten hun talenten laten horen. \nWederom dit jaar is het verwarmde Romeinse Badhuis volledig omgetoverd tot derde podium\, waar je in een intieme setting kunt wegdromen bij unieke live-optredens. \nBeleef de sfeer op Midwinter Fair Archeon\nKrijg alvast een indruk van het event met de aftermovie van een vorige editie!
URL:https://geekagenda.nl/event/midwinter-fair-archeon/
LOCATION:Museumpark Archeon\, Archeonlaan 1\, Alphen aan den Rijn\, 2408ZB\, Netherlands
CATEGORIES:Fantasy & Middeleeuwen
ATTACH;FMTTYPE=image/svg+xml:https://geekagenda.nl/wp-content/uploads/2025/10/archeon-logo-zwart.svg
END:VEVENT
END:VCALENDAR